BEGIN:VCALENDAR
VERSION:2.0
PRODID:-//Bali travel guide for smart travellers - ECPv6.15.20//NONSGML v1.0//EN
CALSCALE:GREGORIAN
METHOD:PUBLISH
X-ORIGINAL-URL:https://www.threesixtyguides.com
X-WR-CALDESC:Events for Bali travel guide for smart travellers
REFRESH-INTERVAL;VALUE=DURATION:PT1H
X-Robots-Tag:noindex
X-PUBLISHED-TTL:PT1H
BEGIN:VTIMEZONE
TZID:Asia/Singapore
BEGIN:STANDARD
TZOFFSETFROM:+0800
TZOFFSETTO:+0800
TZNAME:+08
DTSTART:20210101T000000
END:STANDARD
END:VTIMEZONE
BEGIN:VEVENT
DTSTART;TZID=Asia/Singapore:20220910T100000
DTEND;TZID=Asia/Singapore:20220911T100000
DTSTAMP:20260423T084215
CREATED:20220908T085515Z
LAST-MODIFIED:20220908T085515Z
UID:23410-1662804000-1662890400@www.threesixtyguides.com
SUMMARY:24 Hours Charity Row is coming to MAMAKA!
DESCRIPTION:Join us to support Bali Bersama Bisa\, by donating for a minimum of IDR 100\,000 and row for 30 minutes. \nDate: 10 September – 11 September 2022\nTime: 10 AM – 10 AM the next day\nPlace: MAMAKA by Ovolo Lobby \nScan to book your slots now:\n– 2 slots receive a Mamaka gym t-shirt\n– 4 slots receive a Mamaka gym t-shirt plus 1-month free gym membership \nAll rowers\, family and friends are invited to join the Mamaka team at Kuta Social Club for BBQ & refreshment on 11 September! \nDirect donations welcome by either cash or bank transfers to the bank account below: \nBank Name: Bank Central Asia\nAccount Name: PT Menara Permata Propert\nAccount No: 1464-500-700\nSWIFT Code: CENAIDJA \nBy the Community For the Community!
URL:https://www.threesixtyguides.com/event/24-hours-charity-row-is-coming-to-mamaka/
CATEGORIES:CELEBRATION,EXPLORE,WELLNESS
ATTACH;FMTTYPE=image/jpeg:https://www.threesixtyguides.com/wp-content/uploads/2022/09/WhatsApp-Image-2022-09-08-at-3.27.17-PM.jpeg
END:VEVENT
BEGIN:VEVENT
DTSTART;TZID=Asia/Singapore:20220911T080000
DTEND;TZID=Asia/Singapore:20220911T170000
DTSTAMP:20260423T084215
CREATED:20220829T033117Z
LAST-MODIFIED:20220829T033117Z
UID:23347-1662883200-1662915600@www.threesixtyguides.com
SUMMARY:UFC 279: CHIMAEV VS DIAZ
DESCRIPTION:The headline fight has been announced for UFC 279\, which will feature Khamzat Chimaev and Nate Diaz in what is said to be Diaz’s final fight on his UFC contract and will likely be the toughest test of Chimaev’s career so far. \nPavilion Surf Club Legian Beach
URL:https://www.threesixtyguides.com/event/ufc-279-chimaev-vs-diaz/
ATTACH;FMTTYPE=image/jpeg:https://www.threesixtyguides.com/wp-content/uploads/2022/08/300350330_572922104518951_1538909756536132329_n.jpg
END:VEVENT
END:VCALENDAR