BEGIN:VCALENDAR
VERSION:2.0
PRODID:-//Bali travel guide for smart travellers - ECPv6.15.20//NONSGML v1.0//EN
CALSCALE:GREGORIAN
METHOD:PUBLISH
X-WR-CALNAME:Bali travel guide for smart travellers
X-ORIGINAL-URL:https://www.threesixtyguides.com
X-WR-CALDESC:Events for Bali travel guide for smart travellers
REFRESH-INTERVAL;VALUE=DURATION:PT1H
X-Robots-Tag:noindex
X-PUBLISHED-TTL:PT1H
BEGIN:VTIMEZONE
TZID:Asia/Singapore
BEGIN:STANDARD
TZOFFSETFROM:+0800
TZOFFSETTO:+0800
TZNAME:+08
DTSTART:20210101T000000
END:STANDARD
END:VTIMEZONE
BEGIN:VEVENT
DTSTART;TZID=Asia/Singapore:20221106T170000
DTEND;TZID=Asia/Singapore:20221106T190000
DTSTAMP:20260423T055658
CREATED:20221101T025006Z
LAST-MODIFIED:20221101T025006Z
UID:23509-1667754000-1667761200@www.threesixtyguides.com
SUMMARY:Canggu Beach Clean Up
DESCRIPTION:The Ocean Mimic beach cleanups are back in Canggu after 2 years!!\nAnd there’s some news…\nThey are now in partnership with and facilitated by NoLimbah\, a tech startup that optimizes waste collection in Bali!\nJoin them every Sunday at Batu Bolong beach at 5pm (meeting point in the parking area) to help mother Bali reduce the amount of mismanaged waste and spread awareness about plastic pollution!\nIt will also be a great opportunity to be a part of an awesome community and meet new people :blue_heart:\nMake our actions count by joining the Ocean Mimic x NoLimbah beach cleanups!
URL:https://www.threesixtyguides.com/event/canggu-beach-clean-up/
LOCATION:Pantai Batu Bolong\, Jl. Pantai Batu Bolong 117\, Canggu\, Kec. Kuta Utara\, Kabupaten Badung\, Bali\, Canggu
CATEGORIES:PLAY
ATTACH;FMTTYPE=image/jpeg:https://www.threesixtyguides.com/wp-content/uploads/2022/11/beachcleanup.jpeg
END:VEVENT
END:VCALENDAR