BEGIN:VCALENDAR
VERSION:2.0
PRODID:-//Bali travel guide for smart travellers - ECPv6.15.20//NONSGML v1.0//EN
CALSCALE:GREGORIAN
METHOD:PUBLISH
X-ORIGINAL-URL:https://www.threesixtyguides.com
X-WR-CALDESC:Events for Bali travel guide for smart travellers
REFRESH-INTERVAL;VALUE=DURATION:PT1H
X-Robots-Tag:noindex
X-PUBLISHED-TTL:PT1H
BEGIN:VTIMEZONE
TZID:Asia/Singapore
BEGIN:STANDARD
TZOFFSETFROM:+0800
TZOFFSETTO:+0800
TZNAME:+08
DTSTART:20210101T000000
END:STANDARD
END:VTIMEZONE
BEGIN:VEVENT
DTSTART;VALUE=DATE:20220701
DTEND;VALUE=DATE:20220702
DTSTAMP:20260422T192859
CREATED:20220701T064446Z
LAST-MODIFIED:20220701T064446Z
UID:22586-1656633600-1656719999@www.threesixtyguides.com
SUMMARY:Peking Duk at Savaya Bali
DESCRIPTION:Peking Duk – Saturday\, July 9th\n\nWA: +62 812-3856-9307\nreservations@savayabali.com\n\nhttps://goo.gl/maps/Hi7bZCuZbQLXg79w9\n\n-Capacity is strictly limited to table reservations & ticket holders only.\n-Full health & safety protocols will be executed.\n-This event is strictly for 21+ & valid ID will be required for entry.\nManagement reserve the right to refuse entry for any reason.
URL:https://www.threesixtyguides.com/event/peking-duk-at-savaya-bali/
LOCATION:Savaya Bali\, Jl. Belimbing Sari\, Banjar Tambiyak\, Pecatu\, Uluwatu\, Kabupaten Badung\, Bali\, 80364\, Indonesia
CATEGORIES:CELEBRATION,PLAY
ORGANIZER;CN="Savaya Bali":MAILTO:reservations@savayabali.com
END:VEVENT
BEGIN:VEVENT
DTSTART;TZID=Asia/Singapore:20220702T100000
DTEND;TZID=Asia/Singapore:20220702T230000
DTSTAMP:20260422T192859
CREATED:20220623T031240Z
LAST-MODIFIED:20220623T031240Z
UID:22495-1656756000-1656802800@www.threesixtyguides.com
SUMMARY:SNEAKY SOUND SYSTEM SUMMER RESIDENCY
DESCRIPTION:Sneaky Sound System is back for another Summer residency at Mrs Sippy Bali.\nThe award-winning duo have a list of accolades in their bag for their genre pushing music and artistic vision; including 3 platinum certified albums and numerous nominations and wins at the ARIA Music Awards and MTV Australia Awards\, as well as an endless list of discographies and collaborations including their breakthrough single\, “I Love It”\, and their collaboration with legendary DJ Tiesto\, on the chart-topping single\, “I Will Be Here”.\n\nJoin them every Saturday in July\, August as they kick-off the pool party season.\nNeed a daybed booking?\nBe party prepped arrange a daybed before it’s too late!
URL:https://www.threesixtyguides.com/event/sneaky-sound-system-summer-residency/
LOCATION:Mrs Sippy\, Jl. Taman Ganesha\, Gang Gagak 8 Kerobokan Kelod Kuta Utara Kerobokan Kelod\, Seminyak\, Kec. Kuta Utara\, Kabupaten Badung\, Bali 80361\, Indonesia
CATEGORIES:CELEBRATION,EXPLORE,PLAY
ATTACH;FMTTYPE=image/jpeg:https://www.threesixtyguides.com/wp-content/uploads/2022/06/286429028_1510108582737712_7024617650881525184_n.jpg
ORGANIZER;CN="Mrs Sippy":MAILTO:reservations@mrssippybali.com
END:VEVENT
BEGIN:VEVENT
DTSTART;TZID=Asia/Singapore:20220705T080000
DTEND;TZID=Asia/Singapore:20220705T170000
DTSTAMP:20260422T192859
CREATED:20220705T020744Z
LAST-MODIFIED:20220705T020744Z
UID:22650-1657008000-1657040400@www.threesixtyguides.com
SUMMARY:Movie Under The Stars at Bali Mandira
DESCRIPTION:Come and enjoy family movie night with an intimate beachfront setting under the starry sky at @balimandira every Saturday starting at 6.45 pm.\n_____\nFree entry event.\n\nFor more information and reservation:\n (0361) 751381\n https://www.balimandira.com/\n info@balimandira.com⁠\n WhatsApp +62 878-3888-8899
URL:https://www.threesixtyguides.com/event/movie-under-the-stars-at-bali-mandira/
LOCATION:Bali
CATEGORIES:CELEBRATION,DINE,EXPLORE,STAY
END:VEVENT
BEGIN:VEVENT
DTSTART;TZID=Asia/Singapore:20220708T100000
DTEND;TZID=Asia/Singapore:20220708T170000
DTSTAMP:20260422T192859
CREATED:20220701T063933Z
LAST-MODIFIED:20220701T063933Z
UID:22580-1657274400-1657299600@www.threesixtyguides.com
SUMMARY:Diva Reunion Party at Chez Gado Gado
DESCRIPTION:Diva Charity Lunch Reunion!!!\nIt’s time Divas!!!! Let’s do this!!\nTickets available soon. A portion of the ticket sales will go to @ricefor_bali
URL:https://www.threesixtyguides.com/event/diva-reunion-party-at-chez-gado-gado/
LOCATION:CHEZ GADO GADO\, Jl. Camplung Tanduk No.99\, Seminyak\, Kec. Kuta\, Kabupaten Badung\, Bali 80361\, Indonesia
CATEGORIES:CELEBRATION,DINE,PLAY
END:VEVENT
BEGIN:VEVENT
DTSTART;VALUE=DATE:20220714
DTEND;VALUE=DATE:20220718
DTSTAMP:20260422T192859
CREATED:20220705T021057Z
LAST-MODIFIED:20220705T021057Z
UID:22653-1657756800-1658102399@www.threesixtyguides.com
SUMMARY:Dissolve Weekend at W Bali
DESCRIPTION:4 epic days powered by Marriott Bonvoy with a blend of music\, food and drinks feat some of the hottest local & international names from the music and f&b scene\n14 – 17 July\n\nAmbar\, Atomic 17\, Fire\, Starfish Bloo\, Woobar
URL:https://www.threesixtyguides.com/event/dissolve-weekend-at-w-bali/
LOCATION:Bali
CATEGORIES:CELEBRATION,DINE,PLAY
END:VEVENT
BEGIN:VEVENT
DTSTART;TZID=Asia/Singapore:20220714T120000
DTEND;TZID=Asia/Singapore:20220714T180000
DTSTAMP:20260422T192859
CREATED:20220714T031604Z
LAST-MODIFIED:20220714T031604Z
UID:22802-1657800000-1657821600@www.threesixtyguides.com
SUMMARY:Vibes by the Slides Vol.2
DESCRIPTION:Join the second edition of Waterbom Bali’s Summer event series – Vibes by the Slides – bringing good vibes and tropical flavours to Waterbom Bali!\nKick back on the grass by the Pleasure Pool or grab a seat at the Pool Bar while listening to an afternoon of relaxed island beats and soulful sounds from Krisna Floop and Ronny B Good.\nIndulge in Caribbean-inspired bites from The Shack menu\, plus a selection of Happy Hour cocktails from the Pool Bar.\nAfter a morning on the slides\, it’s the perfect way to soak up the afternoon sunshine!\n\nThis event is free to join for guests already in the park\, to purchase your Waterbom tickets\, visit the website and enjoy a 10% discount online.\nwww.waterbom-bali.com\nFor more information and updates follow Waterbom Bali on Facebook and Instagram.
URL:https://www.threesixtyguides.com/event/vibes-by-the-slides-vol-2/
LOCATION:Waterbom\, Jalan Kartika Plaza\, Bali\, Badung\, 80361\, Indonesia
CATEGORIES:CELEBRATION,PLAY
ATTACH;FMTTYPE=image/jpeg:https://www.threesixtyguides.com/wp-content/uploads/2022/07/Waterbom-Slide.jpeg
END:VEVENT
BEGIN:VEVENT
DTSTART;TZID=Asia/Singapore:20220715T170000
DTEND;TZID=Asia/Singapore:20220715T170000
DTSTAMP:20260422T192859
CREATED:20220705T020537Z
LAST-MODIFIED:20220705T020537Z
UID:22647-1657904400-1657904400@www.threesixtyguides.com
SUMMARY:Liquid Beats at Renaissance Bali Nusa Dua Resort
DESCRIPTION:Drink & Dance | Dance & Drink\nDaniel Gerves from The Lawn Canggu & Andrew from Atomic 17 come together to bring you some wild cocktails featuring Arak\, a traditional Indonesian spirit\, and more.\n\nWith music by DJ Wilson & DJ Anastasia from Indonesia and DJ E Nick from Thailand.\nSo it’s fairly obvious why it’s LIQUID BEATS\, right?\nP.S. Noodles & Kebabs from Chef Alit will be there\, too. Can’t stay hungry during this.\nP.P.S. Marriott Bonvoy members enjoy special perks at this event. There’s an app for that.
URL:https://www.threesixtyguides.com/event/liquid-beats-at-renaissance-bali-nusa-dua-resort/
LOCATION:Renaissance Bali Nusa Dua Resort\, Kawasan Pariwisata Lot SW 4 & 5\, Nusa Dua Bali\, Bali 80363\, Indonesië\, Nusa Dua\, Bali\, Bali 80363\, Indonesia
CATEGORIES:CELEBRATION,PLAY
ORGANIZER;CN="Renaissance Bali Nusa Dua Resort":MAILTO:bf.reservations@renaissancehotels.com
END:VEVENT
BEGIN:VEVENT
DTSTART;TZID=Asia/Singapore:20220715T170000
DTEND;TZID=Asia/Singapore:20220715T200000
DTSTAMP:20260422T192859
CREATED:20220712T025923Z
LAST-MODIFIED:20220712T025923Z
UID:22798-1657904400-1657915200@www.threesixtyguides.com
SUMMARY:Citron by Nigita & Mauri
DESCRIPTION:A weekly summer rendez-vous with an Italian & French Riviera touch where guests can indulge in refreshing cocktails along creative bites before heading to dinner.\n\nThis time the two Chefs have merged their respective art of cooking for a surprising menu.\n\nCome and discover the new popup Aperitivo Bar perched on KANVAZ’s rooftop every Friday and Saturday throughout the month of July from 5PM to 8PM.\nBeautiful sunset sky views\, cocktails and wines including MINUTY rosé\, Aperol station and Live DJ awaits!
URL:https://www.threesixtyguides.com/event/citron-by-nigita-mauri/
LOCATION:Kanvaz Seminyak
CATEGORIES:CELEBRATION,DINE
ATTACH;FMTTYPE=image/jpeg:https://www.threesixtyguides.com/wp-content/uploads/2022/07/Citron-Kanvaz.jpeg
END:VEVENT
BEGIN:VEVENT
DTSTART;TZID=Asia/Singapore:20220716T210000
DTEND;TZID=Asia/Singapore:20220717T030000
DTSTAMP:20260422T192859
CREATED:20220712T025651Z
LAST-MODIFIED:20220712T025651Z
UID:22795-1658005200-1658026800@www.threesixtyguides.com
SUMMARY:Basement Love X PNNY
DESCRIPTION:Join another epic phenomenon under the stars featuring Fafi Abdul Nour from Amsterdam and Adi Toohey from Sydney at La Brisa alongside PNNY Residents.\n\nSave the date! Saturday\, July 16th\, 8pm til late. 21+ to enter.\n\nLimited tickets available on Megatix
URL:https://www.threesixtyguides.com/event/basement-love-x-pnny-3/
LOCATION:La Brisa Bali\, Jalan Pantai Batu Mejan\, Gang La Brisa\, Echo Beach\, Canggu\, Kuta Utara\, Bali\, 80361\, Indonesia
CATEGORIES:CELEBRATION,PLAY
ATTACH;FMTTYPE=image/jpeg:https://www.threesixtyguides.com/wp-content/uploads/2022/07/Basement-PNNY-La-Brisa.jpeg
END:VEVENT
BEGIN:VEVENT
DTSTART;TZID=Asia/Singapore:20220722T130000
DTEND;TZID=Asia/Singapore:20220722T233000
DTSTAMP:20260422T192859
CREATED:20220708T035147Z
LAST-MODIFIED:20220708T035147Z
UID:22786-1658494800-1658532600@www.threesixtyguides.com
SUMMARY:Jonas Blue at Savaya
DESCRIPTION:Join Savaya on Friday July 22nd for a very special event with Jonas Blue\nTickets: https://www.townscript.com/o/savayabali\n*use DISCOUNT code “DANCE” \nAmassing an armoury of platinum-plated hits with over 10 billion global streams and over 50 million singles sales to date\, Jonas Blue\, a main stage DJ\, pop powerhouse\, critically acclaimed songwriter and 5 x BRIT Award nominee is certified platinum over 120 times around the world. With his debut single ‘Fast Car’ achieving multi-platinum\, platinum and gold status in over 20 territories\, the Londoner’s follow-up singles ‘Perfect Strangers’ and ‘Mama’ enjoyed similar success\, lifting Jonas into the spotlight as a truly global superstar. \nInstagram: @jonasblue
URL:https://www.threesixtyguides.com/event/jonas-blue-at-savaya/
LOCATION:Savaya Bali\, Jl. Belimbing Sari\, Banjar Tambiyak\, Pecatu\, Uluwatu\, Kabupaten Badung\, Bali\, 80364\, Indonesia
CATEGORIES:CELEBRATION,PLAY
ATTACH;FMTTYPE=image/jpeg:https://www.threesixtyguides.com/wp-content/uploads/2022/07/Jonas-Blue-Savaya.jpeg
ORGANIZER;CN="Savaya Bali":MAILTO:reservations@savayabali.com
END:VEVENT
BEGIN:VEVENT
DTSTART;TZID=Asia/Singapore:20220722T160000
DTEND;TZID=Asia/Singapore:20220723T020000
DTSTAMP:20260422T192859
CREATED:20220708T035547Z
LAST-MODIFIED:20220708T035547Z
UID:22789-1658505600-1658541600@www.threesixtyguides.com
SUMMARY:Boiler Room at Potato Head Bali
DESCRIPTION:Boiler Room returns to Bali this summer\, taking over the entirety of Potato Head on the 22nd\nand 23rd July. With 30 DJ’s and live acts that include some of local favourites\, together with a\nselection of international artists from over 10 countries\, the event will take place across four\nstages and will feature a kaleidoscope of musical genres ranging from disco to hip-hop.\nRepresenting Indonesia across the weekend is the Leaving Records affiliated Asa Tone trio –\nwhich includes Jakarta’s Melati Malay and NYC’s Tristan Arp and Kaazi accompanied by\ncomposer Ariel Kalma -\, Jakarta-based hip hop artist BAP.\, previous Norrm Radio and Noods\nRadio resident Bagvs\, club night and record label Dekadenz and Indonesian disco aficionados\nDiskoria. There will be a showcase from Indonesian music archive initiative Irama Nusantara\nalongside sets from Cocktail d’Amore’s Jonathan Kusuma and Orbitware’s Mairakilla.\nGuests can also expect to find themselves lost in a polyrhythmic club set from Portugal’s DJ N\nFox\, in a spiritual journey with Floating Points and in an excursion of style and tempo with\nTokyo’s Lil Mofo. South Korean duo Salamanda will be performing live following the release of\ntheir acclaimed third album ‘ashbalkum’ on Human Pitch\, Washington artist Dreamcastmoe will\nbe bringing his slick take on R&B\, funk\, soul and jazz\, and Eglo Records’ Shy One will be \nbringing her high energy eclecticism. \nThe program doesn’t stop at the music; it also features several food stalls satisfying both local\nand international cravings. Attendees will be able to explore a wide palette of flavors while \ndoing the same sonically.
URL:https://www.threesixtyguides.com/event/boiler-room-at-potato-head-bali/
LOCATION:Desa Potato Head\, Jl. Petitenget No.51B\, Kerobokan Kelod\, Kec. Kuta Utara\, Kabupaten Badung\, Bali 80361\, Indonesia
CATEGORIES:CELEBRATION,PLAY
ATTACH;FMTTYPE=image/jpeg:https://www.threesixtyguides.com/wp-content/uploads/2022/07/Boiler-Room-Potato-Head.jpeg
END:VEVENT
BEGIN:VEVENT
DTSTART;TZID=Asia/Singapore:20220723T120000
DTEND;TZID=Asia/Singapore:20220723T180000
DTSTAMP:20260422T192859
CREATED:20220714T032054Z
LAST-MODIFIED:20220714T032054Z
UID:22805-1658577600-1658599200@www.threesixtyguides.com
SUMMARY:Saturday Market
DESCRIPTION:Join Parklife on Saturday 23rd July as some of their favorite brands showcaseing their treasures.
URL:https://www.threesixtyguides.com/event/saturday-market/
LOCATION:Parklife Bali\, Jl. Raya Uma Buluh No.15\, Canggu\, Kec. Kuta Utara\, Kabupaten Badung\, Bali 80361\, Badung\, Bali\, 80361\, Indonesia
CATEGORIES:CELEBRATION,DINE,SHOP
ATTACH;FMTTYPE=image/jpeg:https://www.threesixtyguides.com/wp-content/uploads/2022/07/Parklife.jpeg
END:VEVENT
BEGIN:VEVENT
DTSTART;TZID=Asia/Singapore:20220730T080000
DTEND;TZID=Asia/Singapore:20220730T170000
DTSTAMP:20260422T192859
CREATED:20220725T024531Z
LAST-MODIFIED:20220725T024531Z
UID:22853-1659168000-1659200400@www.threesixtyguides.com
SUMMARY:Waterbom Vibes by the Slides Vol.2
DESCRIPTION:Join Waterbom for the second edition of our Summer event series – Vibes by the Slides – bringing good vibes and tropical flavours to Waterbom Bali!\nKick back on the grass by the Pleasure Pool or grab a seat at the Pool Bar while listening to an afternoon of relaxed island beats and soulful sounds from Krisna Floop and Ronny B Good.\n\nIndulge in Caribbean-inspired bites from The Shack menu\, plus a selection of Happy Hour cocktails from the Pool Bar.\nAfter a morning on the slides\, it’s the perfect way to soak up the afternoon sunshine!\n\n\nThis event is free to join for guests already in the park\, to purchase your Waterbom tickets\, visit the website and enjoy a 10% discount online.\nwww.waterbom-bali.com\nFor more information and updates follow Waterbom Bali on Facebook and Instagram.
URL:https://www.threesixtyguides.com/event/waterbom-vibes-by-the-slides-vol-2/
LOCATION:Waterbom\, Jalan Kartika Plaza\, Bali\, Badung\, 80361\, Indonesia
CATEGORIES:CELEBRATION,PLAY
ATTACH;FMTTYPE=image/jpeg:https://www.threesixtyguides.com/wp-content/uploads/2022/07/Waterbom-Vibes-by-The-Slides-2.jpeg
END:VEVENT
END:VCALENDAR