BEGIN:VCALENDAR
VERSION:2.0
PRODID:-//Bali travel guide for smart travellers - ECPv6.15.20//NONSGML v1.0//EN
CALSCALE:GREGORIAN
METHOD:PUBLISH
X-WR-CALNAME:Bali travel guide for smart travellers
X-ORIGINAL-URL:https://www.threesixtyguides.com
X-WR-CALDESC:Events for Bali travel guide for smart travellers
REFRESH-INTERVAL;VALUE=DURATION:PT1H
X-Robots-Tag:noindex
X-PUBLISHED-TTL:PT1H
BEGIN:VTIMEZONE
TZID:Asia/Singapore
BEGIN:STANDARD
TZOFFSETFROM:+0800
TZOFFSETTO:+0800
TZNAME:+08
DTSTART:20210101T000000
END:STANDARD
END:VTIMEZONE
BEGIN:VEVENT
DTSTART;TZID=Asia/Singapore:20220807T130000
DTEND;TZID=Asia/Singapore:20220807T233000
DTSTAMP:20260422T175431
CREATED:20220714T033925Z
LAST-MODIFIED:20220714T033925Z
UID:22810-1659877200-1659915000@www.threesixtyguides.com
SUMMARY:Jason Derulo at Savaya Bali
DESCRIPTION:Jason Derulo will be performing on Sunday\, August 7th at Savaya during Law of the Jungle Weekend.
URL:https://www.threesixtyguides.com/event/jason-derulo-at-savaya-bali/
LOCATION:Savaya Bali\, Jl. Belimbing Sari\, Banjar Tambiyak\, Pecatu\, Uluwatu\, Kabupaten Badung\, Bali\, 80364\, Indonesia
CATEGORIES:CELEBRATION,PLAY
ATTACH;FMTTYPE=image/jpeg:https://www.threesixtyguides.com/wp-content/uploads/2022/07/Jason-Derulo-Savaya.jpeg
ORGANIZER;CN="Savaya Bali":MAILTO:reservations@savayabali.com
END:VEVENT
BEGIN:VEVENT
DTSTART;TZID=Asia/Singapore:20220825T190000
DTEND;TZID=Asia/Singapore:20220825T233000
DTSTAMP:20260422T175431
CREATED:20220822T053524Z
LAST-MODIFIED:20220822T053524Z
UID:23306-1661454000-1661470200@www.threesixtyguides.com
SUMMARY:LING'S DRAG QUEEN DISCO
DESCRIPTION:Calling all divas\, disco lovers and pleasure seekers!\nJoin Ling’s Drag Queen Disco for a 70s ’til early 00s party that will be larger than life \nFeaturing our gorgeous\, gorgeous Kweens: Wirya Barbara\, Sylvia Tiara\, Tyra Minaj\, Baliana Grande\, Olivia Jessi\, Tracey Germanota\, Monica Malibu\, Hannah Conda and many more\, get here this Thursday night at Ling-Ling’s where you’ll be delighted by the rambunctious kweens sashaying into the spotlight!\nWe’re turning back the clock to when music videos were the coolest thing on the planet with free Jello-shots\, beers and cocktails!\nIf you like sing-a-longs\, hand holding\, foot stomping\, and hoisting strangers on your shoulders\, you’re most welcome to join!\nWhether it be a nostalgia fix or just an excuse to get loosey goosey\, DANCING is just what the doctor ordered!\nSee you at Ling-Ling’s
URL:https://www.threesixtyguides.com/event/lings-drag-queen-disco/
LOCATION:Ling-Ling’s\, Jl.Petitenget No.43B\, Badung\, Bali\, 80361\, Indonesia
CATEGORIES:CELEBRATION,DINE,PLAY
ATTACH;FMTTYPE=image/jpeg:https://www.threesixtyguides.com/wp-content/uploads/2022/08/299672343_3320819938141336_4596215344976299266_n.jpg
END:VEVENT
BEGIN:VEVENT
DTSTART;TZID=Asia/Singapore:20220826T100000
DTEND;TZID=Asia/Singapore:20220826T180000
DTSTAMP:20260422T175431
CREATED:20220725T024119Z
LAST-MODIFIED:20220725T024639Z
UID:22850-1661508000-1661536800@www.threesixtyguides.com
SUMMARY:Mrs Sippy Presents: Lil Pump
DESCRIPTION:Lil Pump is a rapper who first gained recognition in 2017 with the viral hit “Gucci Gang” from his self-titled debut. The track reached number three on the Billboard Hot 100 and was certified platinum by the end of the year.\nThe rapper also scored collaborations with Diplo\, French Montana\, Gucci Mane\, Smokepurpp as well as a series of popular videos that helped him build an enormous social media following. In 2018\, he collaborated on tracks with Lil Yachty and BlocBoy JB before releasing “I Love It\,” a collaborative single with Kanye West accompanied by a short film directed by Spike Jonze.\n\n\nDAYBED BOOKING\nBe party prepped arrange a daybed before it’s too late!\nDaybed packages are not subject to change.\nFor information regarding your booking\, contact our reservations team on\nWhatsApp https://wa.me/6282145001007 or reservations@mrssippybali.com\n\n\nDOOR POLICY\nAdult’s only event\, strictly 18 and over.\nHealth and safety protocols apply.\nAll patrons are subject to having their personal belongings searched.\nT-shirts and singlets with beverage logos are not permitted.\nNo outside food and drinks are allowed in the venue.
URL:https://www.threesixtyguides.com/event/mrs-sippy-presents-lil-pump/
LOCATION:Mrs Sippy\, Jl. Taman Ganesha\, Gang Gagak 8 Kerobokan Kelod Kuta Utara Kerobokan Kelod\, Seminyak\, Kec. Kuta Utara\, Kabupaten Badung\, Bali 80361\, Indonesia
CATEGORIES:CELEBRATION,PLAY
ATTACH;FMTTYPE=image/jpeg:https://www.threesixtyguides.com/wp-content/uploads/2022/07/Lil-Pump-Mrs-Sippy.jpeg
ORGANIZER;CN="Mrs Sippy":MAILTO:reservations@mrssippybali.com
END:VEVENT
BEGIN:VEVENT
DTSTART;TZID=Asia/Singapore:20220827T130000
DTEND;TZID=Asia/Singapore:20220827T233000
DTSTAMP:20260422T175431
CREATED:20220822T060004Z
LAST-MODIFIED:20220822T060004Z
UID:23326-1661605200-1661643000@www.threesixtyguides.com
SUMMARY:Motez at Savaya Bali
DESCRIPTION:Join us Saturday August 27th for special guest DJ set by MOTEZ at Savaya Bali\nComplementary Guestlist before 6pm: https://tinyurl.com/SavayaWeeklyCompGuestlist\nTickets: https://www.townscript.com/o/savayabali\n*use DISCOUNT code “DANCE”
URL:https://www.threesixtyguides.com/event/motez-at-savaya-bali/
LOCATION:Bali
CATEGORIES:CELEBRATION,EXPLORE,PLAY
ATTACH;FMTTYPE=image/jpeg:https://www.threesixtyguides.com/wp-content/uploads/2022/08/296861596_5949977241699001_6421589302506450884_n.jpg
END:VEVENT
BEGIN:VEVENT
DTSTART;TZID=Asia/Singapore:20220827T150000
DTEND;TZID=Asia/Singapore:20220827T233000
DTSTAMP:20260422T175431
CREATED:20220825T010032Z
LAST-MODIFIED:20220825T010032Z
UID:23344-1661612400-1661643000@www.threesixtyguides.com
SUMMARY:KUTA SOCIAL CLUB LAUNCH PARTY
DESCRIPTION:Sip and dance as you catch the Kuta’s iconic sunset from Bali’s Premier Rooftop Pool Club with a backdrop of live DJ performances featuring special guest: SHIRALEE COLEMAN\, supported by DJ Fuel and DJ Soltice on deck.\n\nSaturday\, 27 August 2022\, from 3PM – late\nGet your tickets now by using promo code: KSC2022 and SAVE 20%\nToast The Sunset\, Drink The View.
URL:https://www.threesixtyguides.com/event/kuta-social-club-launch-party/
LOCATION:Bali
CATEGORIES:CELEBRATION,EXPLORE,PLAY
ATTACH;FMTTYPE=image/jpeg:https://www.threesixtyguides.com/wp-content/uploads/2022/08/297256432_588179066350067_4857104742005912190_n.jpg
END:VEVENT
END:VCALENDAR