BEGIN:VCALENDAR
VERSION:2.0
PRODID:-//Bali travel guide for smart travellers - ECPv6.15.20//NONSGML v1.0//EN
CALSCALE:GREGORIAN
METHOD:PUBLISH
X-ORIGINAL-URL:https://www.threesixtyguides.com
X-WR-CALDESC:Events for Bali travel guide for smart travellers
REFRESH-INTERVAL;VALUE=DURATION:PT1H
X-Robots-Tag:noindex
X-PUBLISHED-TTL:PT1H
BEGIN:VTIMEZONE
TZID:Asia/Singapore
BEGIN:STANDARD
TZOFFSETFROM:+0800
TZOFFSETTO:+0800
TZNAME:+08
DTSTART:20210101T000000
END:STANDARD
END:VTIMEZONE
BEGIN:VEVENT
DTSTART;TZID=Asia/Singapore:20221102T130000
DTEND;TZID=Asia/Singapore:20221102T160000
DTSTAMP:20260420T213449
CREATED:20220915T054053Z
LAST-MODIFIED:20220915T054053Z
UID:23458-1667394000-1667404800@www.threesixtyguides.com
SUMMARY:Deus Dog Adoption Day!
DESCRIPTION:DOG ADOPTION DAY! Sunday Oct 2 at @deuscafe_indo 1-4pm!\nCome for a coffee\, a chat\, and play with our adorable rescue puppies who are all healthy\, vaccinated and free to a good home.\nThe best day of an animal’s life is when he or she leaves the shelter and joins their forever family.\nEven if you can’t adopt\, you are welcome to bring the kids to play with the puppies. They love the affection and attention\, hope you can make it!\nLittle Steps Matter rescues and rehabilitates dogs. With only a finite amount of room to house the dogs they must encourage people to adopt to free up space and resources.\nAdopt rather than buying a dog. There are many dogs out there who need shelter and love.\nUltimately it is about saving a dog’s life.\nPlease share and tag your Bali based friends to help us rescue more dogs in need!
URL:https://www.threesixtyguides.com/event/deus-dog-adoption-day/
LOCATION:Bali
CATEGORIES:CELEBRATION,EXPLORE,PLAY
ATTACH;FMTTYPE=image/jpeg:https://www.threesixtyguides.com/wp-content/uploads/2022/09/305930941_5717450561606695_1634896781889103132_n.jpg
END:VEVENT
BEGIN:VEVENT
DTSTART;TZID=Asia/Singapore:20221102T160000
DTEND;TZID=Asia/Singapore:20221102T220000
DTSTAMP:20260420T213449
CREATED:20221101T052136Z
LAST-MODIFIED:20221101T052136Z
UID:23528-1667404800-1667426400@www.threesixtyguides.com
SUMMARY:Dia De Los Muertos
DESCRIPTION:Get your outfits ready!\n⠀⠀⠀⠀⠀⠀⠀⠀⠀\nLive music\, @thehydrantoffical from 7pm\, DJ’s\, free face painting from 4-6pm\, prizes for best dressed + more!\n⠀⠀⠀⠀⠀⠀⠀⠀⠀\nBookings available\, DON’T MISS IT!\n\n\n\n\n\n\n\n\n\n\n\n\n\n\n\nDía de los Muertos\, or Day of the Dead\, is a celebration of life and death. \nWhile the holiday originated in Mexico\, it \nis celebrated all over Latin America with colorful calaveras (skulls) and calacas (skeletons)
URL:https://www.threesixtyguides.com/event/dia-de-los-muertos/
LOCATION:Sinaloa Bali\, Jl Padma Utara 100X\, Legian\, Badung\, Indonesia\, Bali
CATEGORIES:CELEBRATION
ATTACH;FMTTYPE=image/jpeg:https://www.threesixtyguides.com/wp-content/uploads/2022/11/diadelos.jpg
END:VEVENT
BEGIN:VEVENT
DTSTART;TZID=Asia/Singapore:20221105T173000
DTEND;TZID=Asia/Singapore:20221105T183000
DTSTAMP:20260420T213449
CREATED:20221101T033420Z
LAST-MODIFIED:20221101T033420Z
UID:23520-1667669400-1667673000@www.threesixtyguides.com
SUMMARY:Secret Sunset - Neon Glow
DESCRIPTION:Quoted by TimeOut as being “the happiest way to start your day”\, Secret Sunrise is a global movement celebrating life through music\, movement\, and connection.\n\nVUE beachclub welcomes and end the day the best way we know how – by dancing together like no one is watching\, letting our inner child come to the party.\nJoin them for a SUNSET session at VUE Beach Club\, Canggu! All body types\, ages\, and fitness levels welcomed.\nWear your most electric colours cuz we’re dancing neon-stylie! Wear bright wigs if you have them\, neon green spandex\, anything goes at Secret Sunrise – and the brighter the better!\n\nDate: Saturday 5 November\n\nTime: 5:30pm – 6:30pm\n\nLocation: VUE Beach Club\, Canggu. We will be dancing on the South Bar area.\n\nWhat to bring: A sarong or towel to sit or lay down on\, a smile\, and an open mind \n\nWhat to wear: Your best and brightest NEON!\n\nTickets at https://bit.ly/secretsunriseNG
URL:https://www.threesixtyguides.com/event/secret-sunset-neon-glow/
LOCATION:VUE Beach Club\, Canggu.\, Jalan Pantai Berawa.100XX Tibubeneng\, Canggu\, Kec. Kuta Utara\, Kabupaten Badung\, Bali 80361
CATEGORIES:CELEBRATION,PLAY
ATTACH;FMTTYPE=image/jpeg:https://www.threesixtyguides.com/wp-content/uploads/2022/11/neon_party.jpeg
END:VEVENT
END:VCALENDAR