BEGIN:VCALENDAR
VERSION:2.0
PRODID:-//Bali travel guide for smart travellers - ECPv6.15.20//NONSGML v1.0//EN
CALSCALE:GREGORIAN
METHOD:PUBLISH
X-WR-CALNAME:Bali travel guide for smart travellers
X-ORIGINAL-URL:https://www.threesixtyguides.com
X-WR-CALDESC:Events for Bali travel guide for smart travellers
REFRESH-INTERVAL;VALUE=DURATION:PT1H
X-Robots-Tag:noindex
X-PUBLISHED-TTL:PT1H
BEGIN:VTIMEZONE
TZID:Asia/Singapore
BEGIN:STANDARD
TZOFFSETFROM:+0800
TZOFFSETTO:+0800
TZNAME:+08
DTSTART:20210101T000000
END:STANDARD
END:VTIMEZONE
BEGIN:VEVENT
DTSTART;TZID=Asia/Singapore:20220403T210000
DTEND;TZID=Asia/Singapore:20220403T233000
DTSTAMP:20260423T011820
CREATED:20220331T021624Z
LAST-MODIFIED:20220331T021624Z
UID:21504-1649019600-1649028600@www.threesixtyguides.com
SUMMARY:DEUS SUNDAY SESSIONS - NOIZEKILLA SINGLE RELEASE PARTY
DESCRIPTION:Deus Ex Machina Temple of Enthusiasm is excited to present an April Kools Party!\n21:00 – 02.59\n\nA backyard full of bands belting out their music. We all love that!\n1. DEJAVU\n2. OPX\n3. MORELIA (Feat. ONIKW)\n4. TAZMANIA\n\nFour is more. Come down and have your fill of live music.\n\nDJ filling in the wholes is “RONNY B Good”\n\nTogether these guys make up the crème de la crème of Indonesian bands who will smash Sunday 3 April into orbit.\nTo spice things up we have 3 Bintangs for 100k and 2 for 1 cocktails all night long.
URL:https://www.threesixtyguides.com/event/deus-sunday-sessions-noizekilla-single-release-party/
LOCATION:Deus Bali\, Jl. Pantai Batu Mejan No.8\, Canggu\, Kec. Kuta Utara\, Kabupaten Badung\, Bali 80361\, Indonesia
CATEGORIES:CELEBRATION,EXPLORE,PLAY
ATTACH;FMTTYPE=image/jpeg:https://www.threesixtyguides.com/wp-content/uploads/2022/03/277299001_5246117415406681_2230028256542125048_n.jpg
ORGANIZER;CN="Deus Bali":MAILTO:cafe.mgr@deus.co.id
END:VEVENT
END:VCALENDAR