BEGIN:VCALENDAR
VERSION:2.0
PRODID:-//Bali travel guide for smart travellers - ECPv6.15.20//NONSGML v1.0//EN
CALSCALE:GREGORIAN
METHOD:PUBLISH
X-ORIGINAL-URL:https://www.threesixtyguides.com
X-WR-CALDESC:Events for Bali travel guide for smart travellers
REFRESH-INTERVAL;VALUE=DURATION:PT1H
X-Robots-Tag:noindex
X-PUBLISHED-TTL:PT1H
BEGIN:VTIMEZONE
TZID:Asia/Singapore
BEGIN:STANDARD
TZOFFSETFROM:+0800
TZOFFSETTO:+0800
TZNAME:+08
DTSTART:20210101T000000
END:STANDARD
END:VTIMEZONE
BEGIN:VEVENT
DTSTART;TZID=Asia/Singapore:20220415T140000
DTEND;TZID=Asia/Singapore:20220417T170000
DTSTAMP:20260423T011729
CREATED:20220328T015921Z
LAST-MODIFIED:20220328T015921Z
UID:21378-1650031200-1650214800@www.threesixtyguides.com
SUMMARY:Easter Celebrations at The Apurva Kempinski Bali
DESCRIPTION:It’s an endless fun for the whole family at The Apurva Kempinski Bali! Join us for various Easter activities and have a memorable Easter with us.\n\nPALA RESTAURANT\nEaster Brunchcation in collaboration with French Pastry Chef Philippe Urraca\nCommemorate the special occasion with a special Brunchcation. Immerse yourself in the sumptuous brunch\, spend your day floating around the 60-metre swimming pool\, and enjoy various activities for the whole family\, including Easter kids activities!\nSunday\, 17 April 2022\nLunch 12:00 – 15:30\nIDR 700\,000++ per adult\nIDR 350\,00++ per child 6-12 years old\n\nREEF BEACH CLUB\nSpecial Easter Rotisserie\, Kambing Guling Asap\nLay back at Reef with a relaxed\, fun and family-friendly environment\, and enjoy the special Easter rotisserie\, smoked roasted lamb with Flores flavours\nSunday\, 17 April 2022\n10:00-22:00\nSmoked roasted lamb IDR 245\,000++ per set\nIDR 325\,000++ with a glass of Shiraz\nRegular ala carte available sunday\nLive DJ entertainment 16:00-19:00\nLive acoustic band 19:00-22:00\n\nKORAL RESTAURANT\nSpecial Easter Celebration\nAn aquatic dining experience that is always enticing\, Easter celebration at our Koral Restaurant is an experience not to be missed.\nSunday\, 17 April 2022\nLunch 12:00 – 15:00\nDinner 17.30-22.00\nSpecial Easter 5 Course menu at\nIDR 1\,500\,000++ per adult\n2 Course set menu IDR 550\,000++ per child\n(For lunch)\n\nIZAKAYA BY OKU\nSpecial Easter Best Japan’s Culinary Journey\nTravel through 18 Japanese flavours\, crafted by our team of talented chefs\nSaturday\, 16 April 2022\n12:00-16:00\nIDR 550\,000++ per adult\nEaster Oku Bento\nSunday\, 17 April 2022\n12:00-16:00\nIDR 650\,000++ per person\n\nSELASAR DELI\nEaster Unlimited Sweets and Savoury\nTreat yourself to unlimited sweets & savoury at Selasar Deli. Choose your favourite bites\, and enjoy them with the melodious live piano performance and panoramic views of the ocean.\n15 – 16 April 2022\n14.00 – 17.00\nIDR 168\,000++ per adult\nEaster Chocolates\nAvailable starting 10 April 2022\nRequire 24-hour advance order\nIDR 375.000++ per piece\n\nBAI YUN RESTAURANT\nBai Yun is an ideal choice destination to celebrate with your loved ones.\nSunday\, 17 April 2022\nDim Sum and More\n12:00-16:00\nIDR 468\,000++ per adult\nIDR 288\,000++ per child 6-12 years old\nChinese Hot Pot\n16:00-22:00\nStart from IDR 588\,000++ per adult\nIDR 388\,000++ per child 6-12 years old\nFor reservations\, please contact our Culinary Concierge at +62 811 3820 9541 or email to restaurants.bali@kempinski.com
URL:https://www.threesixtyguides.com/event/easter-celebrations-at-the-apurva-kempinski-bali/
LOCATION:Apurva Kempinski\, lot 4\, Jl. Raya Nusa Dua Selatan\, Sawangan\, Nusa Dua\, Bali\, 80361\, Indonesia
CATEGORIES:CELEBRATION,DINE,STAY
ATTACH;FMTTYPE=image/jpeg:https://www.threesixtyguides.com/wp-content/uploads/2022/03/EASTER-CELEBRATIONS.jpeg
END:VEVENT
BEGIN:VEVENT
DTSTART;TZID=Asia/Singapore:20220416T160000
DTEND;TZID=Asia/Singapore:20220416T220000
DTSTAMP:20260423T011729
CREATED:20220414T030821Z
LAST-MODIFIED:20220414T030821Z
UID:21856-1650124800-1650146400@www.threesixtyguides.com
SUMMARY:EASTER SUNSET PARTY TUNE BY DJ SEPTA
DESCRIPTION:Enjoy your amazing dining experience with stunning Sunset in front of the most famous Double Six Seminyak Beach Chez Gado Gado Restaurant & Bar with a Special Event Easter Sunset Party tune by DJ SEPTA and REST DJ WIZY & DJ MOKAFLOAT Set LIVE\nAmazing promos:\n• Coffee & Dessert IDR 60K\n• Buy 1 Get 1 Free Cocktails All Day All Night\n• Buy 1 Get 1 Free all Pasta or Pizza\n• Special Tapas! Choice of 4 get a special price\n• Free Dessert! for order any Steak\n• A la carte menu; including Steaks\, Burgers\, Fish\, Indonesian Foods\, all you may want!
URL:https://www.threesixtyguides.com/event/easter-sunset-party-tune-by-dj-septa/
LOCATION:CHEZ GADO GADO\, Jl. Camplung Tanduk No.99\, Seminyak\, Kec. Kuta\, Kabupaten Badung\, Bali 80361\, Indonesia
CATEGORIES:CELEBRATION,DINE,PLAY
ATTACH;FMTTYPE=image/jpeg:https://www.threesixtyguides.com/wp-content/uploads/2022/04/278374421_5032943800074205_3099464767997832376_n.jpg
END:VEVENT
BEGIN:VEVENT
DTSTART;TZID=Asia/Singapore:20220416T160000
DTEND;TZID=Asia/Singapore:20220416T233000
DTSTAMP:20260423T011729
CREATED:20220414T050404Z
LAST-MODIFIED:20220414T050404Z
UID:21886-1650124800-1650151800@www.threesixtyguides.com
SUMMARY:FULLMOON CELEBRATION
DESCRIPTION:Reconnect with nature spirits and your inner self through an authentic Full Moon Celebration. Start your cultural journey with Canangsari and Tridatu making activity\, followed by Full Moon ritual at the resort temple.\n\nEnjoy the ally sourced three-course set menu as you immerse in the enchanting Legong dance. The experience includes a special session to appreciate Full Moon in Balinese tradition and a spiritual purification to cleanse body and soul.\n\nFor reservation\, please contact\nF&B Sales Executive Conrad Bali\nWhatsApp: 0811 3850 680 |
URL:https://www.threesixtyguides.com/event/fullmoon-celebration/
LOCATION:Conrad Bali\, Jl. Pratama No.168\, Tj. Benoa\, Kec. Kuta Sel\, Kabupaten Badung\, Bali 80363\, Indonesia
CATEGORIES:CELEBRATION,EXPLORE
ATTACH;FMTTYPE=image/jpeg:https://www.threesixtyguides.com/wp-content/uploads/2022/04/277774510_10158955121254682_9055504049092321508_n.jpg
END:VEVENT
BEGIN:VEVENT
DTSTART;TZID=Asia/Singapore:20220416T183000
DTEND;TZID=Asia/Singapore:20220416T233000
DTSTAMP:20260423T011729
CREATED:20220414T054259Z
LAST-MODIFIED:20220414T054259Z
UID:21897-1650133800-1650151800@www.threesixtyguides.com
SUMMARY:NOSE TO TAIL | ARTISAN DINNER
DESCRIPTION:Capella Ubud\, Bali is honoured to welcome a special guest for the upcoming Easter Weekend. The talented Chef John Becker from JONO”s will showcase handcrafted meat delicacies to accompany Michelin starred Chef Nicola Russo in creating a twelve-course degustation dinner at Api Jiwa. \n  \nFirst seating at 6.30 pm \nSecond seating at 8.30 pm \nIDR 1\,300\,000++ per person \nIncluding a welcome drink \nAdditional wine pairing | IDR 4.90\,000++ per person \nPre-booking required. Limited spaces available.
URL:https://www.threesixtyguides.com/event/nose-to-tail-artisan-dinner/
LOCATION:Api Jiwa ubud\, Banjar Triwangsa\, Jl. RY Dalem\, Keliki\, Kec. Tegallalang\, Kabupaten Gianyar\, Bali 80561\, Indonesia\, Ubud\, Kabupaten Gianyar\, Bali 80561\, Indonesia
CATEGORIES:CELEBRATION,DINE,EXPLORE,PLAY
ATTACH;FMTTYPE=image/jpeg:https://www.threesixtyguides.com/wp-content/uploads/2022/04/DFBE7C03-1152-47D4-A4E4-F5B230B612E3.jpg
ORGANIZER;CN="Api Jiwa Ubud":MAILTO:reservations.ubud@capellahotels.com
END:VEVENT
END:VCALENDAR