BEGIN:VCALENDAR
VERSION:2.0
PRODID:-//Bali travel guide for smart travellers - ECPv6.15.20//NONSGML v1.0//EN
CALSCALE:GREGORIAN
METHOD:PUBLISH
X-WR-CALNAME:Bali travel guide for smart travellers
X-ORIGINAL-URL:https://www.threesixtyguides.com
X-WR-CALDESC:Events for Bali travel guide for smart travellers
REFRESH-INTERVAL;VALUE=DURATION:PT1H
X-Robots-Tag:noindex
X-PUBLISHED-TTL:PT1H
BEGIN:VTIMEZONE
TZID:Asia/Singapore
BEGIN:STANDARD
TZOFFSETFROM:+0800
TZOFFSETTO:+0800
TZNAME:+08
DTSTART:20210101T000000
END:STANDARD
END:VTIMEZONE
BEGIN:VEVENT
DTSTART;TZID=Asia/Singapore:20220521T130000
DTEND;TZID=Asia/Singapore:20220521T220000
DTSTAMP:20260423T012025
CREATED:20220509T044206Z
LAST-MODIFIED:20220509T044206Z
UID:22079-1653138000-1653170400@www.threesixtyguides.com
SUMMARY:DISKO AFRIKA ONE YEAR ANNIVERSARY - MAJOR LEAGUE DJZ
DESCRIPTION:Disko Afrika One Year Anniversary – Major League DJz\n\n\nWA: +62 812-3856-9307\nreservations@savayabali.com\n\n\n-Capacity is strictly limited to table reservations & ticket holders only.\n-Full health & safety protocols will be executed.\n-This event is strictly for 21+ & valid ID will be required for entry.\nManagement reserve the right to refuse entry for any reason
URL:https://www.threesixtyguides.com/event/disko-afrika-one-year-anniversary-major-league-djz/
LOCATION:Savaya Bali\, Jl. Belimbing Sari\, Banjar Tambiyak\, Pecatu\, Uluwatu\, Kabupaten Badung\, Bali\, 80364\, Indonesia
CATEGORIES:CELEBRATION,DINE,EXPLORE,PLAY
ATTACH;FMTTYPE=image/jpeg:https://www.threesixtyguides.com/wp-content/uploads/2022/05/279300930_410552650886141_7891685079616801824_n.jpg
ORGANIZER;CN="Savaya Bali":MAILTO:reservations@savayabali.com
END:VEVENT
BEGIN:VEVENT
DTSTART;TZID=Asia/Singapore:20220521T130000
DTEND;TZID=Asia/Singapore:20220521T233000
DTSTAMP:20260423T012025
CREATED:20220509T042623Z
LAST-MODIFIED:20220509T042623Z
UID:22064-1653138000-1653175800@www.threesixtyguides.com
SUMMARY:ULU CLIFFHOUSE PRESENTS RUDIMENTAL DJ
DESCRIPTION:ANNOUNCEMENT THE TIME HAS ARRIVED!\n\nThey’ve toured the world and smashed every festival worthy of a name.\nGet ready for mega headliners RUDIMENTAL (DJ Set) to ignite the Ulu Saturdays stage May 21st.\nMore to come with some of the islands most talented Dj’s to be announced!\nGet your early bird tickets now\, these won’t last long \n\nVIP Tables – vip@ulucliffhouse.com\n\nFurther information:\n+62 811 3941 7899\ninfo@ulucliffhouse.com
URL:https://www.threesixtyguides.com/event/ulu-cliffhouse-presents-rudimental-dj/
LOCATION:Ulu cliffhouse\, Jalan Labuansait\, Bali\, Indonesia
CATEGORIES:CELEBRATION,EXPLORE,PLAY
ATTACH;FMTTYPE=image/jpeg:https://www.threesixtyguides.com/wp-content/uploads/2022/05/279346701_10219072329779921_37740556937573741_n.jpg
END:VEVENT
END:VCALENDAR