BEGIN:VCALENDAR
VERSION:2.0
PRODID:-//Bali travel guide for smart travellers - ECPv6.15.20//NONSGML v1.0//EN
CALSCALE:GREGORIAN
METHOD:PUBLISH
X-ORIGINAL-URL:https://www.threesixtyguides.com
X-WR-CALDESC:Events for Bali travel guide for smart travellers
REFRESH-INTERVAL;VALUE=DURATION:PT1H
X-Robots-Tag:noindex
X-PUBLISHED-TTL:PT1H
BEGIN:VTIMEZONE
TZID:Asia/Singapore
BEGIN:STANDARD
TZOFFSETFROM:+0800
TZOFFSETTO:+0800
TZNAME:+08
DTSTART:20210101T000000
END:STANDARD
END:VTIMEZONE
BEGIN:VEVENT
DTSTART;TZID=Asia/Singapore:20220604T170000
DTEND;TZID=Asia/Singapore:20220604T220000
DTSTAMP:20260422T234838
CREATED:20220530T083004Z
LAST-MODIFIED:20220530T083004Z
UID:22305-1654362000-1654380000@www.threesixtyguides.com
SUMMARY:FIRST SATURDAYS - FOAM PARTY
DESCRIPTION:Put every first Saturday of the month in your calendar & experience an ultimate beachfront specially curated party at @azulbeachclub.\n____\nSet to break the waves on June 4th 2022\, FIRST SATURDAYS is going to add splashes of excitement to your first Saturday of the month. Starting from 5 pm onwards\, FIRST SATURDAYS will feature foam party where you can dance the evening away with heaps of foam & exciting tunes from the best DJ on the island @oman_bean for its very first session.\n\nFree entry event.
URL:https://www.threesixtyguides.com/event/first-saturdays-foam-party/
LOCATION:Azul Beach Club\, Jl. Padma No.2\, Legian\, Kuta\, Bali\, 80361\, Indonesia
CATEGORIES:CELEBRATION,EXPLORE,PLAY
ATTACH;FMTTYPE=image/jpeg:https://www.threesixtyguides.com/wp-content/uploads/2022/05/280628038_5214629945260930_627171612358175737_n.jpg
ORGANIZER;CN="Azul Beach Club":MAILTO:info@azulbali.com⁠⁣⁣
END:VEVENT
END:VCALENDAR