BEGIN:VCALENDAR
VERSION:2.0
PRODID:-//Bali travel guide for smart travellers - ECPv6.15.20//NONSGML v1.0//EN
CALSCALE:GREGORIAN
METHOD:PUBLISH
X-ORIGINAL-URL:https://www.threesixtyguides.com
X-WR-CALDESC:Events for Bali travel guide for smart travellers
REFRESH-INTERVAL;VALUE=DURATION:PT1H
X-Robots-Tag:noindex
X-PUBLISHED-TTL:PT1H
BEGIN:VTIMEZONE
TZID:Asia/Singapore
BEGIN:STANDARD
TZOFFSETFROM:+0800
TZOFFSETTO:+0800
TZNAME:+08
DTSTART:20210101T000000
END:STANDARD
END:VTIMEZONE
BEGIN:VEVENT
DTSTART;TZID=Asia/Singapore:20220605T130000
DTEND;TZID=Asia/Singapore:20220605T220000
DTSTAMP:20260422T223059
CREATED:20220530T125252Z
LAST-MODIFIED:20220530T125252Z
UID:22308-1654434000-1654466400@www.threesixtyguides.com
SUMMARY:SOUTHERN TRIBE - THEMBA
DESCRIPTION:Southern Tribe – Themba\nSunday\, June 5th\nA new tribe is born. Sundays at Savaya. Starting June 5th and every Sunday thereafter.\n\nWA: +62 812-3856-9307\nreservations@savayabali.com\n\n-Capacity is strictly limited to table reservations & ticket holders only.\n-Full health & safety protocols will be executed.\n-This event is strictly for 21+ & valid ID will be required for entry.\nManagement reserve the right to refuse entry for any reason.
URL:https://www.threesixtyguides.com/event/southern-tribe-themba/
LOCATION:Savaya Bali\, Jl. Belimbing Sari\, Banjar Tambiyak\, Pecatu\, Uluwatu\, Kabupaten Badung\, Bali\, 80364\, Indonesia
CATEGORIES:CELEBRATION,EXPLORE,PLAY
ATTACH;FMTTYPE=image/jpeg:https://www.threesixtyguides.com/wp-content/uploads/2022/05/283923731_429386902336049_6884187421548246705_n.jpg
ORGANIZER;CN="Savaya Bali":MAILTO:reservations@savayabali.com
END:VEVENT
END:VCALENDAR