BEGIN:VCALENDAR
VERSION:2.0
PRODID:-//Bali travel guide for smart travellers - ECPv6.15.20//NONSGML v1.0//EN
CALSCALE:GREGORIAN
METHOD:PUBLISH
X-ORIGINAL-URL:https://www.threesixtyguides.com
X-WR-CALDESC:Events for Bali travel guide for smart travellers
REFRESH-INTERVAL;VALUE=DURATION:PT1H
X-Robots-Tag:noindex
X-PUBLISHED-TTL:PT1H
BEGIN:VTIMEZONE
TZID:Asia/Singapore
BEGIN:STANDARD
TZOFFSETFROM:+0800
TZOFFSETTO:+0800
TZNAME:+08
DTSTART:20210101T000000
END:STANDARD
END:VTIMEZONE
BEGIN:VEVENT
DTSTART;TZID=Asia/Singapore:20220625T100000
DTEND;TZID=Asia/Singapore:20220625T233000
DTSTAMP:20260422T223121
CREATED:20220614T031252Z
LAST-MODIFIED:20220614T031252Z
UID:22446-1656151200-1656199800@www.threesixtyguides.com
SUMMARY:MRS SIPPY BALI PRESENTS: BAG RAIDERS
DESCRIPTION:Over the past decade\, Bag Raiders have built a reputation for mammoth dance releases that keep the world moving with them. Between club stardom to world tours and festival slots\, together they have achieved a total x32 platinum records\, x7 gold records and over 385 million online streams across their collection\, which includes the widely-loved “Way Back Home”\, gold-certified “Sunlight”\, and triple-platinum\, runaway meme phenomenon and global anthem “Shooting Stars”.\nThe Bag Raiders have firmly cemented themselves as a global phenomenon with a worldwide fanbase. Their shows are renowned for their inimitable on stage-energy and giving the ultimate performance.\nWe can’t wait to welcome Bag Raiders back to Mrs Sippy for another amazing pool party!\nGet your tickets before they are all gone!
URL:https://www.threesixtyguides.com/event/mrs-sippy-bali-presents-bag-raiders/
LOCATION:Mrs Sippy\, Jl. Taman Ganesha\, Gang Gagak 8 Kerobokan Kelod Kuta Utara Kerobokan Kelod\, Seminyak\, Kec. Kuta Utara\, Kabupaten Badung\, Bali 80361\, Indonesia
CATEGORIES:CELEBRATION,EXPLORE,PLAY
ATTACH;FMTTYPE=image/jpeg:https://www.threesixtyguides.com/wp-content/uploads/2022/06/284786865_1498764297205474_2470005823110239860_n.jpg
ORGANIZER;CN="Mrs Sippy":MAILTO:reservations@mrssippybali.com
END:VEVENT
BEGIN:VEVENT
DTSTART;TZID=Asia/Singapore:20220625T130000
DTEND;TZID=Asia/Singapore:20220625T220000
DTSTAMP:20260422T223121
CREATED:20220509T044458Z
LAST-MODIFIED:20220509T044458Z
UID:22083-1656162000-1656194400@www.threesixtyguides.com
SUMMARY:JACKMASTER
DESCRIPTION:Jackmaster – Saturday\, June 25th\n\n\nWA: +62 812-3856-9307\nreservations@savayabali.com\n\n\n-Capacity is strictly limited to table reservations & ticket holders only.\n-Full health & safety protocols will be executed.\n-This event is strictly for 21+ & valid ID will be required for entry.\nManagement reserve the right to refuse entry for any reason.
URL:https://www.threesixtyguides.com/event/jackmaster/
LOCATION:Savaya Bali\, Jl. Belimbing Sari\, Banjar Tambiyak\, Pecatu\, Uluwatu\, Kabupaten Badung\, Bali\, 80364\, Indonesia
CATEGORIES:CELEBRATION,DINE,EXPLORE,PLAY
ATTACH;FMTTYPE=image/jpeg:https://www.threesixtyguides.com/wp-content/uploads/2022/05/278917332_406923364582403_7034601075287283533_n.jpg
ORGANIZER;CN="Savaya Bali":MAILTO:reservations@savayabali.com
END:VEVENT
END:VCALENDAR