BEGIN:VCALENDAR
VERSION:2.0
PRODID:-//Bali travel guide for smart travellers - ECPv6.15.20//NONSGML v1.0//EN
CALSCALE:GREGORIAN
METHOD:PUBLISH
X-ORIGINAL-URL:https://www.threesixtyguides.com
X-WR-CALDESC:Events for Bali travel guide for smart travellers
REFRESH-INTERVAL;VALUE=DURATION:PT1H
X-Robots-Tag:noindex
X-PUBLISHED-TTL:PT1H
BEGIN:VTIMEZONE
TZID:Asia/Singapore
BEGIN:STANDARD
TZOFFSETFROM:+0800
TZOFFSETTO:+0800
TZNAME:+08
DTSTART:20220101T000000
END:STANDARD
END:VTIMEZONE
BEGIN:VEVENT
DTSTART;TZID=Asia/Singapore:20230114T100000
DTEND;TZID=Asia/Singapore:20230114T100000
DTSTAMP:20260420T200133
CREATED:20230110T093409Z
LAST-MODIFIED:20230110T093409Z
UID:24166-1673690400-1673690400@www.threesixtyguides.com
SUMMARY:Mousse T. at MRS SIPPY
DESCRIPTION:Mousse T. \nThe DJ making music in the hottest and most exclusive clubs is coming to Mrs. Sippy! ✨✨⁠\n⁠\nBlending his disco/house music will be ⁠\nthe perfect ingredient for a promising evening ⁠\nat Mrs Sippy Bali\, Seminyak.⁠\n🕺 🕺 ⁠\n⁠\n– Saturday 14 January ⁠\n10:00 am⁠\n⁠\nGet your tickets! ⁠\n⁠\nhttps://www.mrssippybali.com/bookings ⁠\n⁠\nInstagram : @mrssippybali
URL:https://www.threesixtyguides.com/event/mousse-t-at-mrs-sippy/
LOCATION:Bali
CATEGORIES:CELEBRATION,EXPLORE,PLAY
ATTACH;FMTTYPE=image/jpeg:https://www.threesixtyguides.com/wp-content/uploads/2023/01/IMG_2AEC7059006D-1.jpeg
END:VEVENT
END:VCALENDAR