BEGIN:VCALENDAR
VERSION:2.0
PRODID:-//Bali travel guide for smart travellers - ECPv6.15.20//NONSGML v1.0//EN
CALSCALE:GREGORIAN
METHOD:PUBLISH
X-ORIGINAL-URL:https://www.threesixtyguides.com
X-WR-CALDESC:Events for Bali travel guide for smart travellers
REFRESH-INTERVAL;VALUE=DURATION:PT1H
X-Robots-Tag:noindex
X-PUBLISHED-TTL:PT1H
BEGIN:VTIMEZONE
TZID:Asia/Singapore
BEGIN:STANDARD
TZOFFSETFROM:+0800
TZOFFSETTO:+0800
TZNAME:+08
DTSTART:20220101T000000
END:STANDARD
END:VTIMEZONE
BEGIN:VEVENT
DTSTART;VALUE=DATE:20230120
DTEND;VALUE=DATE:20230123
DTSTAMP:20260420T200138
CREATED:20230120T043323Z
LAST-MODIFIED:20230120T043323Z
UID:24248-1674172800-1674431999@www.threesixtyguides.com
SUMMARY:Savaya presents Law Of The Jungle\, a music-packed festival.
DESCRIPTION:We are excited to announce Seth Troxler\, Jamie Jones and DJ Tennis and Carlita will be performing at Savaya during Law of the Jungle Weekend\, Friday January 20th – Sunday\, January 22nd. Weekend tickets to these shows are available.\n— \nManfredi Romano AKA DJ Tennis produces and spins moody\, atmospheric tracks that range from indie-friendly house to lush\, finely detailed techno music. \nFounder of electronic label “Life and Death”\, the DJ is known to host music events in Italy. The DJ also founded “Daze”\, Italy’s first booking agency solely devoted to Electronic music. \nHaving performed across venues around the world\, the DJ has performed in events such as Boiler Room\, Circoloco and many more. \n— \nCarla Frayman aka ‘Carlita’ is a DJ and producer on the rise\, who is mixing and producing diverse sounds and rhythms from cultures across the world. \nShe draws on downtempo and electronic middle eastern music to Afro-beat and obscure Latin music genres like electro-cumbia. Blending these different cultures of music together\, she creates a globally sonic journey for the listener. \nThe DJ has performed extensively across the world\, playing her music in extravagant places likes the jungles of Nicaragua to swanky and sophisticated venues such as Soho House Istanbul and many more. \n  \nCheck the ticketlink in the details \n 
URL:https://www.threesixtyguides.com/event/savaya-presents-law-of-the-jungle-a-music-packed-festival/
LOCATION:Savaya Bali\, Jl. Belimbing Sari\, Banjar Tambiyak\, Pecatu\, Uluwatu\, Kabupaten Badung\, Bali\, 80364\, Indonesia
CATEGORIES:CELEBRATION,EXPLORE
ATTACH;FMTTYPE=image/jpeg:https://www.threesixtyguides.com/wp-content/uploads/2023/01/WhatsApp-Image-2023-01-20-at-5.39.51-AM.jpeg
END:VEVENT
END:VCALENDAR