BEGIN:VCALENDAR
VERSION:2.0
PRODID:-//Bali travel guide for smart travellers - ECPv6.15.20//NONSGML v1.0//EN
CALSCALE:GREGORIAN
METHOD:PUBLISH
X-WR-CALNAME:Bali travel guide for smart travellers
X-ORIGINAL-URL:https://www.threesixtyguides.com
X-WR-CALDESC:Events for Bali travel guide for smart travellers
REFRESH-INTERVAL;VALUE=DURATION:PT1H
X-Robots-Tag:noindex
X-PUBLISHED-TTL:PT1H
BEGIN:VTIMEZONE
TZID:Asia/Singapore
BEGIN:STANDARD
TZOFFSETFROM:+0800
TZOFFSETTO:+0800
TZNAME:+08
DTSTART:20220101T000000
END:STANDARD
END:VTIMEZONE
BEGIN:VEVENT
DTSTART;TZID=Asia/Singapore:20230902T210000
DTEND;TZID=Asia/Singapore:20230903T030000
DTSTAMP:20260423T090610
CREATED:20230830T041614Z
LAST-MODIFIED:20230830T045323Z
UID:25231-1693688400-1693710000@www.threesixtyguides.com
SUMMARY:Basement Love x PNNY x Carlos Valdes at La Brisa Canggu\, Bali
DESCRIPTION:Back and better than ever!  \nLa Brisa at is back in action with Basement Love x PNNY\, fully charged and ready to ignite the night. Carlos Valdes\, a true force in Amsterdam’s electronic music scene\, along with the dynamic island vibes of Andy Chunes & Trigan Young from PNNY.  \nMark your calendars for Saturday\, September 2nd\, 2023\, 9PM\, as we dance by the shore. (21+)\nGrab your tickets now \nLet’s make memories!
URL:https://www.threesixtyguides.com/event/basementlove-pnny-labrisa-canggu/
LOCATION:La Brisa Bali\, Jalan Pantai Batu Mejan\, Gang La Brisa\, Echo Beach\, Canggu\, Kuta Utara\, Bali\, 80361\, Indonesia
CATEGORIES:PARTY,PLAY
ATTACH;FMTTYPE=image/jpeg:https://www.threesixtyguides.com/wp-content/uploads/2023/08/WhatsApp-Image-2023-08-30-at-11.46.56.jpeg
END:VEVENT
END:VCALENDAR