BEGIN:VCALENDAR
VERSION:2.0
PRODID:-//Bali travel guide for smart travellers - ECPv6.15.20//NONSGML v1.0//EN
CALSCALE:GREGORIAN
METHOD:PUBLISH
X-WR-CALNAME:Bali travel guide for smart travellers
X-ORIGINAL-URL:https://www.threesixtyguides.com
X-WR-CALDESC:Events for Bali travel guide for smart travellers
REFRESH-INTERVAL;VALUE=DURATION:PT1H
X-Robots-Tag:noindex
X-PUBLISHED-TTL:PT1H
BEGIN:VTIMEZONE
TZID:Asia/Singapore
BEGIN:STANDARD
TZOFFSETFROM:+0800
TZOFFSETTO:+0800
TZNAME:+08
DTSTART:20240101T000000
END:STANDARD
END:VTIMEZONE
BEGIN:VEVENT
DTSTART;VALUE=DATE:20250509
DTEND;VALUE=DATE:20250510
DTSTAMP:20260423T180839
CREATED:20250408T032516Z
LAST-MODIFIED:20250408T032516Z
UID:29080-1746748800-1746835199@www.threesixtyguides.com
SUMMARY:The Legian Seminyak Presents: High Tea for Charity 2025 – An Afternoon of Giving Back in Style
DESCRIPTION:The Legian Seminyak\, Bali\, in collaboration with the Bali Children Foundation\, is proud to present High Tea for Charity 2025—an inspiring afternoon dedicated to empowering the future of Balinese youth. This special event aims to support scholarships for Year 12 students pursuing tertiary education and hospitality training\, helping them build brighter futures. \nSet against the stunning backdrop of The Restaurant at The Legian Seminyak\, guests will gather on Friday\, 9 May 2025\, from 1:30 PM to 5:00 PM\, for a meaningful high tea experience. A donation of IDR 595\,000 is available for presale\, or IDR 650\,000 at the door\, with all proceeds going directly to the Bali Children Foundation. \nHighlights of the event include a captivating fashion show by Warwick Purser @Equatorial\, an exciting live auction\, silent auction\, and raffle draws\, as well as vibrant live performances that promise to entertain and inspire. \nFor more information or to reserve a spot\, please contact Bianca via WhatsApp at +62 877 1117 3929. \nJoin this memorable afternoon where elegance meets purpose\, and every sip supports a student’s dream.
URL:https://www.threesixtyguides.com/event/the-legian-seminyak-presents-high-tea-for-charity-2025-an-afternoon-of-giving-back-in-style/
LOCATION:The Legian Seminyak\, Jl. Kayu Aya\, Seminyak\, Kec. Kuta\, Kabupaten Badung\, Bali 80361\, Seminyak\, Indonesia
CATEGORIES:Charity,EXHIBITION
ATTACH;FMTTYPE=image/png:https://www.threesixtyguides.com/wp-content/uploads/2025/04/bN0ioX79ABoDUCqSqER1igKFnEt4UeBglmSwKrdf.png
END:VEVENT
BEGIN:VEVENT
DTSTART;VALUE=DATE:20250523
DTEND;VALUE=DATE:20250524
DTSTAMP:20260423T180839
CREATED:20250519T082951Z
LAST-MODIFIED:20250521T073856Z
UID:29094-1747958400-1748044799@www.threesixtyguides.com
SUMMARY:Mostly x Uma Garden: 8 Hands Series - A Multicultural Culinary Collaboration at Mostly
DESCRIPTION:On May 23rd at 6 PM\, Mostly Restaurant & Bar in Pererenan will present the 8 Hands Series\, a collaborative dining event in partnership with Uma Garden and supported by Tavolo Group and Tanau. The evening will bring together four chef’s\, Boy Putra\, Ade Supartika\, Brigette Ibrahim\, and Nathan Bratadjaja\, with the contribution of Daniele Taddeo\, executive chef from Tavolo Group. Each chef will present a signature dish inspired by their culinary roots. This immersive tasting experience is designed to showcase diverse cooking styles and cultural stories\, offering a journey through global flavors in one shared menu. \nHighlights include Brigette Ibrahim’s Rendang Wellington\, Nathan Bratadjaja’s Grilled Octopus Tikka\, Ade Supartika’s Lemongrass-Infused Bouillabaisse\, and Boy Putra’s Picanha Prosciutto. Guests will have the opportunity to engage with the chefs and learn about the inspirations behind each course. The 8 Hands Series offers more than just a meal—it invites connection through food\, storytelling\, and shared experiences. \nRSVP & more info via @mostlyforeveryone on Instagram.
URL:https://www.threesixtyguides.com/event/8-hands-series-a-multicultural-culinary-collaboration-at-mostly-x-uma-garden/
LOCATION:Mostly\, Jl. Pantai Pererenan No.114\, Pererenan\, Kec. Mengwi\, Kabupaten Badung\, Bali 80351\, Badung\, 80351\, Indonesia
CATEGORIES:DINE
ATTACH;FMTTYPE=image/jpeg:https://www.threesixtyguides.com/wp-content/uploads/2025/05/snapins-ai_3626371405807718224.jpg
END:VEVENT
END:VCALENDAR