BEGIN:VCALENDAR
VERSION:2.0
PRODID:-//Bali travel guide for smart travellers - ECPv6.15.20//NONSGML v1.0//EN
CALSCALE:GREGORIAN
METHOD:PUBLISH
X-WR-CALNAME:Bali travel guide for smart travellers
X-ORIGINAL-URL:https://www.threesixtyguides.com
X-WR-CALDESC:Events for Bali travel guide for smart travellers
REFRESH-INTERVAL;VALUE=DURATION:PT1H
X-Robots-Tag:noindex
X-PUBLISHED-TTL:PT1H
BEGIN:VTIMEZONE
TZID:Asia/Singapore
BEGIN:STANDARD
TZOFFSETFROM:+0800
TZOFFSETTO:+0800
TZNAME:+08
DTSTART:20210101T000000
END:STANDARD
END:VTIMEZONE
BEGIN:VEVENT
DTSTART;TZID=Asia/Singapore:20220901T190000
DTEND;TZID=Asia/Singapore:20220901T233000
DTSTAMP:20260423T101705
CREATED:20220823T085734Z
LAST-MODIFIED:20220823T085734Z
UID:23341-1662058800-1662075000@www.threesixtyguides.com
SUMMARY:Postcard from Puglia
DESCRIPTION:Revive an enchanted Wine Dinner in the best authentic Italian resto in Bali with 5 courses dinner and the finest selection wine from Puglia\n\nThursday\, 1 Sept 2022\nStarts from 7PM\n\nReservation is highly recommended to attend this exciting event\, book a seat through link below:\nhttps://linktr.ee/cibocucinadeli
URL:https://www.threesixtyguides.com/event/postcard-from-puglia/
CATEGORIES:CELEBRATION,DINE,EXPLORE
ATTACH;FMTTYPE=image/jpeg:https://www.threesixtyguides.com/wp-content/uploads/2022/08/300798982_1458824474598496_3095704529139033588_n.jpg
END:VEVENT
BEGIN:VEVENT
DTSTART;TZID=Asia/Singapore:20220902T190000
DTEND;TZID=Asia/Singapore:20220902T190000
DTSTAMP:20260423T101705
CREATED:20220823T054706Z
LAST-MODIFIED:20220823T054706Z
UID:23337-1662145200-1662145200@www.threesixtyguides.com
SUMMARY:Padma Musical Concerts
DESCRIPTION:Padma Musical Concerts proudly presents An Evening of Opera and Broadway\nFriday\, 2 September 2022 \nRegistration and cash bar starts at 6PM\nShow starts at 7PM \nVIP seating: IDR 750\,000 nett/ person\nGeneral seating: IDR 500\,000 nett/ person \n20% off for BCA credit card holders \nPost-performance buffet dinner is available at IDR 368\,000+/ person \nFor reservation and more information please contact dining.legian@padmahotels.com or WhatsApp +62 811 3821 9512
URL:https://www.threesixtyguides.com/event/padma-musical-concerts/
CATEGORIES:CELEBRATION,EXPLORE,PLAY
ATTACH;FMTTYPE=image/jpeg:https://www.threesixtyguides.com/wp-content/uploads/2022/08/Screen-Shot-2022-08-23-at-07.41.33.jpg
END:VEVENT
BEGIN:VEVENT
DTSTART;TZID=Asia/Singapore:20220903T140000
DTEND;TZID=Asia/Singapore:20220903T160000
DTSTAMP:20260423T101705
CREATED:20220822T060315Z
LAST-MODIFIED:20220822T060315Z
UID:23329-1662213600-1662220800@www.threesixtyguides.com
SUMMARY:W Bali - Seminyak Presents Janice Wong
DESCRIPTION:Bringing you Asia’s best pastry chef\nand chocolatier\, award-winning\nJanice Wong\, for a weekend full of\nchocolates.\nSATURDAY\, 3/9/22\nChoco Splash\nW Lounge\n2PM\nSUNDAY\, 4/9/22\nSweet Super Brunch\nFIRE & STARFISH BLOO\n12PM – 3:30PM
URL:https://www.threesixtyguides.com/event/w-bali-seminyak-presents-janice-wong/
CATEGORIES:DINE,EXPLORE,PLAY
ATTACH;FMTTYPE=image/jpeg:https://www.threesixtyguides.com/wp-content/uploads/2022/08/299963884_5928213407206856_8109663082494108886_n.jpg
END:VEVENT
BEGIN:VEVENT
DTSTART;TZID=Asia/Singapore:20220910T100000
DTEND;TZID=Asia/Singapore:20220911T100000
DTSTAMP:20260423T101705
CREATED:20220908T085515Z
LAST-MODIFIED:20220908T085515Z
UID:23410-1662804000-1662890400@www.threesixtyguides.com
SUMMARY:24 Hours Charity Row is coming to MAMAKA!
DESCRIPTION:Join us to support Bali Bersama Bisa\, by donating for a minimum of IDR 100\,000 and row for 30 minutes. \nDate: 10 September – 11 September 2022\nTime: 10 AM – 10 AM the next day\nPlace: MAMAKA by Ovolo Lobby \nScan to book your slots now:\n– 2 slots receive a Mamaka gym t-shirt\n– 4 slots receive a Mamaka gym t-shirt plus 1-month free gym membership \nAll rowers\, family and friends are invited to join the Mamaka team at Kuta Social Club for BBQ & refreshment on 11 September! \nDirect donations welcome by either cash or bank transfers to the bank account below: \nBank Name: Bank Central Asia\nAccount Name: PT Menara Permata Propert\nAccount No: 1464-500-700\nSWIFT Code: CENAIDJA \nBy the Community For the Community!
URL:https://www.threesixtyguides.com/event/24-hours-charity-row-is-coming-to-mamaka/
CATEGORIES:CELEBRATION,EXPLORE,WELLNESS
ATTACH;FMTTYPE=image/jpeg:https://www.threesixtyguides.com/wp-content/uploads/2022/09/WhatsApp-Image-2022-09-08-at-3.27.17-PM.jpeg
END:VEVENT
BEGIN:VEVENT
DTSTART;TZID=Asia/Singapore:20220911T080000
DTEND;TZID=Asia/Singapore:20220911T170000
DTSTAMP:20260423T101706
CREATED:20220829T033117Z
LAST-MODIFIED:20220829T033117Z
UID:23347-1662883200-1662915600@www.threesixtyguides.com
SUMMARY:UFC 279: CHIMAEV VS DIAZ
DESCRIPTION:The headline fight has been announced for UFC 279\, which will feature Khamzat Chimaev and Nate Diaz in what is said to be Diaz’s final fight on his UFC contract and will likely be the toughest test of Chimaev’s career so far. \nPavilion Surf Club Legian Beach
URL:https://www.threesixtyguides.com/event/ufc-279-chimaev-vs-diaz/
ATTACH;FMTTYPE=image/jpeg:https://www.threesixtyguides.com/wp-content/uploads/2022/08/300350330_572922104518951_1538909756536132329_n.jpg
END:VEVENT
BEGIN:VEVENT
DTSTART;TZID=Asia/Singapore:20220917T180000
DTEND;TZID=Asia/Singapore:20220917T233000
DTSTAMP:20260423T101706
CREATED:20220913T074755Z
LAST-MODIFIED:20220913T075042Z
UID:23439-1663437600-1663457400@www.threesixtyguides.com
SUMMARY:KAISEYE WHITE PARTY
DESCRIPTION:The unmissable WHITE PARTY is back for another unreal Ulu experience  Saturday September 17th get ready for our dance floor to go OFF! \nDJ’S – EZA & FRANCESCO CASTELLI will be tearing up the stage from 6pm – late \nYou know this guestlist is filling up already!
URL:https://www.threesixtyguides.com/event/kaiseye-white-party/
CATEGORIES:CELEBRATION,EXPLORE,PLAY
ATTACH;FMTTYPE=image/jpeg:https://www.threesixtyguides.com/wp-content/uploads/2022/09/306353142_2290362387780385_8161163927826740387_n.jpg
END:VEVENT
BEGIN:VEVENT
DTSTART;TZID=Asia/Singapore:20220917T180000
DTEND;TZID=Asia/Singapore:20220917T233000
DTSTAMP:20260423T101706
CREATED:20220915T034756Z
LAST-MODIFIED:20220915T034756Z
UID:23452-1663437600-1663457400@www.threesixtyguides.com
SUMMARY:Wine & Flamenco at Nusa Bodega
DESCRIPTION:Join us for an evening of fine wine\, gourmet meats & cheeses\, and the beautiful sounds of flamenco guitar. The incredibly talented @adienfazmail will be performing Saturday from 6pm\, at Nusa Bodega Wine Bar in Nusa Lembongan. Limited seating available so get in early!
URL:https://www.threesixtyguides.com/event/wine-flamenco-at-nusa-bodega/
CATEGORIES:DINE,EXPLORE,PLAY
ATTACH;FMTTYPE=image/jpeg:https://www.threesixtyguides.com/wp-content/uploads/2022/09/305456192_107370375455329_6224400719330577605_n-e1663213576450.jpg
END:VEVENT
BEGIN:VEVENT
DTSTART;TZID=Asia/Singapore:20220918T150000
DTEND;TZID=Asia/Singapore:20220918T233000
DTSTAMP:20260423T101706
CREATED:20220915T023557Z
LAST-MODIFIED:20220915T023557Z
UID:23449-1663513200-1663543800@www.threesixtyguides.com
SUMMARY:Hysteria Fest 2022
DESCRIPTION:The Greatest EDM Music Festival will be held on Bali . There will be DJ Special performance\, Foam Party\, Floaties and Fireworks \n  \nLocation : \nMari Beach Club Bali\nJalan Batu Belig\, Kerobokan Kelod\, Kecamatan Kuta Utara\, Bali\, Indonesia
URL:https://www.threesixtyguides.com/event/hysteria-fest-2022/
CATEGORIES:CELEBRATION,EXPLORE,PLAY
ATTACH;FMTTYPE=image/jpeg:https://www.threesixtyguides.com/wp-content/uploads/2022/09/Screen-Shot-2022-09-15-at-10.32.06.jpg
END:VEVENT
BEGIN:VEVENT
DTSTART;TZID=Asia/Singapore:20220919T173000
DTEND;TZID=Asia/Singapore:20220919T173000
DTSTAMP:20260423T101706
CREATED:20220912T023800Z
LAST-MODIFIED:20220912T023800Z
UID:23413-1663608600-1663608600@www.threesixtyguides.com
SUMMARY:THE ART OF SOUND HEALING
DESCRIPTION:Evoke inner peace as you step into our Infinity Chapel\, beautifully lit in tranquil cobalt hue. Mesmerizing colorful circles of Mandalas and flickering candles add to the serene setting as dusk begins to fall. Recline\, relax and float away in a 60 minute inner healing journey through chants of mantras and scriptures orchestrated with an eclectic ensemble of musical instruments.\nWith a specialty in harmonizing the internal frequencies of the body\, our healer utilizes the following mediums throughout the sessions: bansuri (Indian bamboo flute)\, suling (Sundanese bamboo flute)\, karinding (Sundanese bamboo jaw harp)\, tabla (Indian drum)\, gambus (Sumatrans oud)\, ngoni (West African harp)\, Tibetan singing bowls and more.\nExperience the binary beats\, theta waves and vibrations as the alluring music transcend through the 7 chakras of your body.\nIDR 550K++ PER PERSON\n*Private session will be available upon request\nFor more information and reservation:\nWhatsApp: +1 612 699 2387\nEmail: Bali.JiwaSpa@ConradHotels.com
URL:https://www.threesixtyguides.com/event/the-art-of-sound-healing/
CATEGORIES:EXPLORE,STAY,WELLNESS
ATTACH;FMTTYPE=image/jpeg:https://www.threesixtyguides.com/wp-content/uploads/2022/09/301908264_10159193422379682_52436466571097281_n.jpg
END:VEVENT
BEGIN:VEVENT
DTSTART;TZID=Asia/Singapore:20220922T140000
DTEND;TZID=Asia/Singapore:20220922T233000
DTSTAMP:20260423T101706
CREATED:20220915T020515Z
LAST-MODIFIED:20220915T020515Z
UID:23446-1663855200-1663889400@www.threesixtyguides.com
SUMMARY:The Wailer & The Cuban AT Ulu Cliffhouse
DESCRIPTION:ANNOUNCEMENT TIME HAS ARRIVED! 💃🏼 SAVE THE DATE 22 October 2022 Grammy nominated\, Reggae legends THE ORIGINAL WAILERS of Bob Marley fame are hitting our Cliffside stage for another unreal Ulu event! Was always the music of Bali so we feel very honoured they are gracing us with their presence…Alongside them are the unstoppable\, infectious force of nature THE CUBAN BROTHERS 🔥 Get your early bird tickets from the link in our bio now! VIP TABLE : vip@ulucliffhouse.com
URL:https://www.threesixtyguides.com/event/the-wailer-the-cuban-at-ulu-cliffhouse/
CATEGORIES:CELEBRATION,EXPLORE,PLAY
ATTACH;FMTTYPE=image/jpeg:https://www.threesixtyguides.com/wp-content/uploads/2022/09/Screen-Shot-2022-09-15-at-10.03.01.jpg
END:VEVENT
BEGIN:VEVENT
DTSTART;TZID=Asia/Singapore:20220924T160000
DTEND;TZID=Asia/Singapore:20220924T233000
DTSTAMP:20260423T101706
CREATED:20220912T034058Z
LAST-MODIFIED:20220912T035407Z
UID:23416-1664035200-1664062200@www.threesixtyguides.com
SUMMARY:NEED2FREAK -  ULU CLIFFHOUSE BALI
DESCRIPTION:Get ready for the second installment of Need2Freak Bali with Indo Dreaming!\nJordan Brando\nLittle Fritter\nWongo\nElliot Ramsay\nMoon\nTix on sale now!
URL:https://www.threesixtyguides.com/event/need2freak-bali/
CATEGORIES:CELEBRATION,EXPLORE,PLAY
ATTACH;FMTTYPE=image/jpeg:https://www.threesixtyguides.com/wp-content/uploads/2022/09/Screen-Shot-2022-09-12-at-11.50.43.jpg
END:VEVENT
BEGIN:VEVENT
DTSTART;TZID=Asia/Singapore:20220925T180000
DTEND;TZID=Asia/Singapore:20220925T220000
DTSTAMP:20260423T101706
CREATED:20220915T040611Z
LAST-MODIFIED:20220915T040611Z
UID:23455-1664128800-1664143200@www.threesixtyguides.com
SUMMARY:MOŽ! sit with me
DESCRIPTION:MOŽ! sit with me is a Miniature puppet theatre and the show is about an old man being alone in the room and he starts to wonder.\n“My parents always told me that my grandfather was nervous. After more than 20 years\, I discovered he was suffering from a mental illness called organic delusional disorder. It was difficult for me to understand his perception of the world. That’s why the Miniature puppet theatre MOŽ! is dedicated to all the beautiful and crazy minds in the world.” (by Tea Kovše)\n——————–\n“I am an old man. I am living alone and never leave my home. In my solitude\, I fall in love with a lamp and confront my own fears.”\n​\nMy biography is based on short stories: Metamorphosis (Franz Kafka)\, Tju (Slavko Grum) and the true story of Tea’s grandfather. He is a 79 years old ex-coal miner diagnosed with organic delusional disorder.\n——————–\nLENGTH: It is 25 – 30 minutes long.\nLANGUAGE: Has no language. Everything is shown by the music and movements.\nAUDIENCE AGE: It is not specifically for children (11+)\n\nEvent Timing: Sunday\, 25 September 2022 | 1st Session 6 pm | 2nd Session 8 pm\n*capacity 20 people per slot!\nTicket price: Rp. 100.000/person\nGet your ticket now: bit.ly/mozisitwithme\nEvent Address: Uma Seminyak\, Jl. Kayu Cendana No. 1 Seminyak\nContact us at +62 81239576836 / umseminyakevent@gmail.com\n—————————-\nThis performance is supported by:\nUma Seminyak | Pesta Boneka\nBy Gustra | Senidibali\nHomemade Klappertart Bali
URL:https://www.threesixtyguides.com/event/moz-sit-with-me/
CATEGORIES:CELEBRATION,EXPLORE,PLAY
ATTACH;FMTTYPE=image/jpeg:https://www.threesixtyguides.com/wp-content/uploads/2022/09/306733555_493657076098649_4871022506760449135_n.jpg
END:VEVENT
BEGIN:VEVENT
DTSTART;TZID=Asia/Singapore:20220928T130000
DTEND;TZID=Asia/Singapore:20220928T233000
DTSTAMP:20260423T101706
CREATED:20220822T060628Z
LAST-MODIFIED:20220822T060628Z
UID:23332-1664370000-1664407800@www.threesixtyguides.com
SUMMARY:Marshmello
DESCRIPTION:Marshmello\nWednesday\, September 28\n\nWA: +62 812-3856-9307\nreservations@savayabali.com\n\nhttps://goo.gl/maps/Hi7bZCuZbQLXg79w9\n\n-Capacity is strictly limited to table reservations & ticket holders only.\n-Full health & safety protocols will be executed.\n-This event is strictly for 21+ & valid ID will be required for entry.\nManagement reserve the right to refuse entry for any reason.
URL:https://www.threesixtyguides.com/event/marshmello/
CATEGORIES:CELEBRATION,EXPLORE,PLAY
ATTACH;FMTTYPE=image/jpeg:https://www.threesixtyguides.com/wp-content/uploads/2022/08/298522306_482999716974767_642314730807808817_n.jpg
END:VEVENT
END:VCALENDAR