BEGIN:VCALENDAR
VERSION:2.0
PRODID:-//Bali travel guide for smart travellers - ECPv6.15.20//NONSGML v1.0//EN
CALSCALE:GREGORIAN
METHOD:PUBLISH
X-WR-CALNAME:Bali travel guide for smart travellers
X-ORIGINAL-URL:https://www.threesixtyguides.com
X-WR-CALDESC:Events for Bali travel guide for smart travellers
REFRESH-INTERVAL;VALUE=DURATION:PT1H
X-Robots-Tag:noindex
X-PUBLISHED-TTL:PT1H
BEGIN:VTIMEZONE
TZID:Asia/Singapore
BEGIN:STANDARD
TZOFFSETFROM:+0800
TZOFFSETTO:+0800
TZNAME:+08
DTSTART:20220101T000000
END:STANDARD
END:VTIMEZONE
BEGIN:VEVENT
DTSTART;TZID=Asia/Singapore:20230204T100000
DTEND;TZID=Asia/Singapore:20230204T100000
DTSTAMP:20260422T181229
CREATED:20230113T063700Z
LAST-MODIFIED:20230113T063700Z
UID:24189-1675504800-1675504800@www.threesixtyguides.com
SUMMARY:Paluma
DESCRIPTION:DJ\, producer\, label maker – Sharam Jey from Cologne\, Germany\, is a real allrounder.\n As a true lover of music and artist he uses any chance he gets to bring his music closer to clubbers all around the world.\nWhen it comes to dance music\, you don’t want to miss Sharam Jey at \nMRS. SIPPY in seminyak\n\n\nCheck the details for the ticket link!
URL:https://www.threesixtyguides.com/event/paluma/
LOCATION:Mrs Sippy\, Jl. Taman Ganesha\, Gang Gagak 8 Kerobokan Kelod Kuta Utara Kerobokan Kelod\, Seminyak\, Kec. Kuta Utara\, Kabupaten Badung\, Bali 80361\, Indonesia
ATTACH;FMTTYPE=image/png:https://www.threesixtyguides.com/wp-content/uploads/2023/01/Paluma-website.png
END:VEVENT
BEGIN:VEVENT
DTSTART;TZID=Asia/Singapore:20230211T100000
DTEND;TZID=Asia/Singapore:20230211T100000
DTSTAMP:20260422T181229
CREATED:20230116T035848Z
LAST-MODIFIED:20230116T035848Z
UID:24191-1676109600-1676109600@www.threesixtyguides.com
SUMMARY:Sharam Jey
DESCRIPTION:Get your tickets for Sharam Jey at Mrs. Sippy in Seminyak!! \nYou can find the ticket link in the details…
URL:https://www.threesixtyguides.com/event/sharam-jey-2/
LOCATION:Mrs Sippy\, Jl. Taman Ganesha\, Gang Gagak 8 Kerobokan Kelod Kuta Utara Kerobokan Kelod\, Seminyak\, Kec. Kuta Utara\, Kabupaten Badung\, Bali 80361\, Indonesia
CATEGORIES:CELEBRATION,EXPLORE,PLAY
ATTACH;FMTTYPE=image/jpeg:https://www.threesixtyguides.com/wp-content/uploads/2023/01/Sharam-Jey-website.jpg
END:VEVENT
END:VCALENDAR