BEGIN:VCALENDAR
VERSION:2.0
PRODID:-//Bali travel guide for smart travellers - ECPv6.15.20//NONSGML v1.0//EN
CALSCALE:GREGORIAN
METHOD:PUBLISH
X-ORIGINAL-URL:https://www.threesixtyguides.com
X-WR-CALDESC:Events for Bali travel guide for smart travellers
REFRESH-INTERVAL;VALUE=DURATION:PT1H
X-Robots-Tag:noindex
X-PUBLISHED-TTL:PT1H
BEGIN:VTIMEZONE
TZID:Asia/Singapore
BEGIN:STANDARD
TZOFFSETFROM:+0800
TZOFFSETTO:+0800
TZNAME:+08
DTSTART:20220101T000000
END:STANDARD
END:VTIMEZONE
BEGIN:VEVENT
DTSTART;VALUE=DATE:20230317
DTEND;VALUE=DATE:20230320
DTSTAMP:20260421T020504
CREATED:20230314T043629Z
LAST-MODIFIED:20230314T043629Z
UID:24433-1679011200-1679270399@www.threesixtyguides.com
SUMMARY:Kempinski Bali Culinary Journey
DESCRIPTION:Join Kempinski for a series of spectacular collaborations with M.O.F. Jean-François Arnaud and Michelin-starred Chef Julien Lefebvre from 17 – 19 March 2023. contact them via WhatsApp at +62-811-3880-7788 for bookings! \nThe start is at different times this weekend\, check out their Instagram. \n  \n✨✨✨✨✨
URL:https://www.threesixtyguides.com/event/kempinski-bali-culinary-journey/
LOCATION:Apurva Kempinski\, lot 4\, Jl. Raya Nusa Dua Selatan\, Sawangan\, Nusa Dua\, Bali\, 80361\, Indonesia
CATEGORIES:DINE,EXPLORE
ATTACH;FMTTYPE=image/jpeg:https://www.threesixtyguides.com/wp-content/uploads/2023/03/kempinskibali_334136507_742168110626934_3030016132127629075_n.jpg
END:VEVENT
BEGIN:VEVENT
DTSTART;TZID=Asia/Singapore:20230317T150000
DTEND;TZID=Asia/Singapore:20230317T170000
DTSTAMP:20260421T020504
CREATED:20230314T034756Z
LAST-MODIFIED:20230314T034756Z
UID:24419-1679065200-1679072400@www.threesixtyguides.com
SUMMARY:cocktail workshop
DESCRIPTION:PotatoHead wants to share with you the secrets of Arak\, their Balinese liquor\, a spirit made from the coconut flower. Our Head Mixologist will explain the story of each ingredient and show how Arak can be utilised to create new different flavours. Come join them to mix your own cocktail and taste different kinds of Arak. \nRegistration fee: IDR 350\,000 nett per person \nWe love to keep this experience very intimate so maximum capacity is 4 people. Participants must be in legal age for drinking (21 years old). \nPlease also make sure you book through our WhatsApp number +6281138007979. \nEvery Wednesday\, Thursday\, Friday
URL:https://www.threesixtyguides.com/event/cocktail-workshop/
LOCATION:Desa Potato Head\, Jl. Petitenget No.51B\, Kerobokan Kelod\, Kec. Kuta Utara\, Kabupaten Badung\, Bali 80361\, Indonesia
CATEGORIES:EXPLORE,PLAY,SHOP
ATTACH;FMTTYPE=image/jpeg:https://www.threesixtyguides.com/wp-content/uploads/2023/03/HDLNS_LIGHT_DEFAULT_WEB_1080x1080_016.jpg
END:VEVENT
BEGIN:VEVENT
DTSTART;TZID=Asia/Singapore:20230317T200000
DTEND;TZID=Asia/Singapore:20230317T233000
DTSTAMP:20260421T020504
CREATED:20230314T032315Z
LAST-MODIFIED:20230314T032315Z
UID:24412-1679083200-1679095800@www.threesixtyguides.com
SUMMARY:potato head x basement love x pnny
DESCRIPTION:Potato Head welcomes back Basement Love on March 17 for a night of uninhibited musical celebration. Featuring open-minded sounds for fun-loving clubbers\, they invite you to set sail across a shimmering sea of house\, techno\, and space disco grooves.\nThe latest immaculately-carved instalment features an inspired cast of hand-picked selectors\, with NTS radio host Peach headlining a dazzling bill with her seductive blend of polychromatic house\, techno\, electro and disco soundscapes.\n\nChilean rhythm master Paula Tape will guide them on a vibrant journey through percussion-heavy leftfield dance textures\, while Barcelona-based party-starter and LGBTQ+ icon ISAbella completes the guest line-up with her gorgeously inclusive sonic tapestry. Adding their far-reaching musical flavours to the mix will be Basement Love residents Tiago Oudman and the PNNY Collective\, ushering in good times for all as they continue to spread positive vibrations across Bali and far beyond\n\nFROM 8:00PM / UNTILL 02:00 AM !
URL:https://www.threesixtyguides.com/event/potato-head-x-basement-love-x-pnny/
LOCATION:Desa Potato Head\, Jl. Petitenget No.51B\, Kerobokan Kelod\, Kec. Kuta Utara\, Kabupaten Badung\, Bali 80361\, Indonesia
ATTACH;FMTTYPE=image/jpeg:https://www.threesixtyguides.com/wp-content/uploads/2023/03/333812269_193640213270829_4338906074389352311_n.jpg
END:VEVENT
BEGIN:VEVENT
DTSTART;TZID=Asia/Singapore:20230318T100000
DTEND;TZID=Asia/Singapore:20230318T233000
DTSTAMP:20260421T020504
CREATED:20230314T035516Z
LAST-MODIFIED:20230314T035516Z
UID:24423-1679133600-1679182200@www.threesixtyguides.com
SUMMARY:Mark Lower - Mrs Sippy Bali
DESCRIPTION:Immerse yourself in the world of NuDisco with the legendary French producer\, Mark Lower.\nWith over 70 million plays on YouTube and a string of chart-topping tracks\, Mark Lower is a force to be reckoned with.\n\nDon’t miss out on this opportunity to dance to his electrifying beats and be a part of one of the hottest pool parties in Bali. \n\n\nMRS.SIPPY !
URL:https://www.threesixtyguides.com/event/mark-lower-mrs-sippy-bali/
LOCATION:Mrs Sippy\, Jl. Taman Ganesha\, Gang Gagak 8 Kerobokan Kelod Kuta Utara Kerobokan Kelod\, Seminyak\, Kec. Kuta Utara\, Kabupaten Badung\, Bali 80361\, Indonesia
CATEGORIES:CELEBRATION,PLAY
ATTACH;FMTTYPE=image/jpeg:https://www.threesixtyguides.com/wp-content/uploads/2023/03/332718621_6114530171988936_1792851460442109386_n.jpg
END:VEVENT
BEGIN:VEVENT
DTSTART;TZID=Asia/Singapore:20230318T170000
DTEND;TZID=Asia/Singapore:20230318T200000
DTSTAMP:20260421T020504
CREATED:20230314T041416Z
LAST-MODIFIED:20230314T041416Z
UID:24426-1679158800-1679169600@www.threesixtyguides.com
SUMMARY:Sunset Rhythm
DESCRIPTION:Discover the best sunset of Bali accompanied by the tropical tunes from a live DJ and fire up your Saturday fun \nwith Flaming Bikini special offer at only 99K++ from 5-8 pm.
URL:https://www.threesixtyguides.com/event/sunset-rhythm/
LOCATION:Azul Beach Club Bali\, Jl. Padma No.2\, Legian\, Kec. Kuta\, Kabupaten Badung\, Bali 80361\, Bali\, Indonesia
ATTACH;FMTTYPE=image/jpeg:https://www.threesixtyguides.com/wp-content/uploads/2023/03/324905606_3671773639709923_3695591197857240274_n.jpg
END:VEVENT
BEGIN:VEVENT
DTSTART;TZID=Asia/Singapore:20230319T130000
DTEND;TZID=Asia/Singapore:20230319T230000
DTSTAMP:20260421T020504
CREATED:20230314T042158Z
LAST-MODIFIED:20230314T042158Z
UID:24430-1679230800-1679266800@www.threesixtyguides.com
SUMMARY:Southern Tribe - Shimza
DESCRIPTION:Savaya Bali Presents\n\nSouthern Tribe – Shimza – Sun 19 Mar\nReservations – WA: +62 812-3856-9307 / @savayabali.com\nLocation\nhttps://goo.gl/maps/Hi7bZCuZbQLXg79w9\n\nDoor Policy\n-Capacity is strictly limited to table reservations & ticket holder only.\n-Full health & safety protocols will be executed.\n-This event is strictly 21+ & valid ID will be required for entry.\nManagement reserve the rights to refuse entry for any reason.
URL:https://www.threesixtyguides.com/event/southern-tribe-shimza/
LOCATION:Savaya Bali\, Jl. Belimbing Sari\, Banjar Tambiyak\, Pecatu\, Uluwatu\, Kabupaten Badung\, Bali\, 80364\, Indonesia
CATEGORIES:EXPLORE,PLAY
ATTACH;FMTTYPE=image/jpeg:https://www.threesixtyguides.com/wp-content/uploads/2023/03/334199458_567590018655599_606525612095531799_n.jpg
END:VEVENT
BEGIN:VEVENT
DTSTART;TZID=Asia/Singapore:20230319T183000
DTEND;TZID=Asia/Singapore:20230319T210000
DTSTAMP:20260421T020504
CREATED:20230314T033959Z
LAST-MODIFIED:20230314T033959Z
UID:24415-1679250600-1679259600@www.threesixtyguides.com
SUMMARY:Family Movie Night Under The Stars
DESCRIPTION:Bring your family for a unique family movie night experience\, where you can watch your favorite family movies by the sea under the stars with sea breeze and limitless horizon as the backdrop. \nEvery Saturday evening starts at 6.45 pm. \nA free entry event for everyone!!
URL:https://www.threesixtyguides.com/event/family-movie-night-under-the-stars/
LOCATION:Bali Mandira Beach Resort & Spa\, Jl. Padma No.2\, Legian\, Kec. Kuta\, Kabupaten Badung\, Bali 80361\, Bali\, Indonesia
ATTACH;FMTTYPE=image/jpeg:https://www.threesixtyguides.com/wp-content/uploads/2023/03/324418008_1158147924858859_2708301671764829022_n.jpg
END:VEVENT
END:VCALENDAR